BEGIN:VCALENDAR
VERSION:2.0
PRODID:-//wp-events-plugin.com//7.2.3.1//EN
TZID:Europe/Berlin
X-WR-TIMEZONE:Europe/Berlin
BEGIN:VEVENT
UID:16829@arsmondo-online.de
DTSTART;TZID=Europe/Berlin:20260320T190000
DTEND;TZID=Europe/Berlin:20260320T210000
DTSTAMP:20251211T220220Z
URL:https://www.arsmondo-online.de/kulturtermine/21-bach-to-minimalism/
SUMMARY:#21 Bach to Minimalism
DESCRIPTION:\n\n\nImmersive Texturen\, mitreißende Rhythmen\, intime Klän
 ge – mitunter inspiriert von ihrer großen Bewunderung für Johann Sebas
 tian Bach fanden die Komponisten der Minimal Music zu ihrer Klangsprache. 
 Das Barockensemble Le Concert de l’Hostel Dieu aus Lyon macht diese Verb
 indung zwischen zwei scheinbar völlig verschiedenen Welten erlebbar:\n\n\
 n\n\nBachs Instrumentalmusik begegnet der rhythmisch pulsierenden Energie 
 von Steve Reich und Karl Jenkins\, deren Werke mit geradezu pophafter Dire
 ktheit moderne Klangarchitekturen erzeugen. Meditative Stücke u. a. von A
 rvo Pärt spiegeln sich wiederum in der kontemplativen Tiefe von Bachs Kon
 trapunkt.\n\n\n\nProgramm\nSteve Reich Clapping music\nJohann Sebastian Ba
 ch Contrapunctus I aus »Die Kunst der Fuge« BWV 1080\nJohann Sebastian B
 ach Violinkonzert d-Moll BWV 1052R\nArvo Pärt Da Pacem Domine\nJohann Seb
 astian Bach Contrapunctus VI »alla francese« aus »Die Kunst der Fuge« 
 BWV 1080\nSteve Reich Electric counterpoint\, 3. Satz (fast)\nMax Richter 
 Dona Nobis Pacem II\nKarl Jenkins Concerto Palladio\, 3. Satz (Vivace)\nMi
 twirkende\nLe Concert de l’Hostel Dieu\nPatrick Cohën-Akenine Solo-Viol
 ine\nReynier Guerrero Solo-Violine\nUgo Gianotti Violine\nVéronique Bouil
 loux Violine\nSayaka Shinoda Violine\nAndré Costa Violine\nMartyna Grabow
 ska Viola\nRaphaëlle Pacault Viola\nAude Walker-Viry Violoncello\nClara F
 ellmann Violoncello\nNicolas Janot Violone\nUlrick Larsen Theorbe\nFranck-
 Emmanuel Comte Leitung und Cembalo\n\nBild: Le Concert de l’Hostel Dieu 
 © Julie Cherki
ATTACH;FMTTYPE=image/jpeg:https://www.arsmondo-online.de/wp-content/upload
 s/2025/12/21_kleiner.jpg
CATEGORIES:Konzert
LOCATION:Johannekirche am Feuersee\, Gutenbergstraße 11\, Stuttgart\, Bade
 n-Württemberg\, 70176\, Deutschland
X-APPLE-STRUCTURED-LOCATION;VALUE=URI;X-ADDRESS=Gutenbergstraße 11\, Stutt
 gart\, Baden-Württemberg\, 70176\, Deutschland;X-APPLE-RADIUS=100;X-TITLE
 =Johannekirche am Feuersee:geo:0,0
END:VEVENT
BEGIN:VTIMEZONE
TZID:Europe/Berlin
X-LIC-LOCATION:Europe/Berlin
BEGIN:STANDARD
DTSTART:20251026T020000
TZOFFSETFROM:+0200
TZOFFSETTO:+0100
TZNAME:CET
END:STANDARD
END:VTIMEZONE
END:VCALENDAR