BEGIN:VCALENDAR
VERSION:2.0
PRODID:-//wp-events-plugin.com//7.2.3.1//EN
TZID:Europe/Berlin
X-WR-TIMEZONE:Europe/Berlin
BEGIN:VEVENT
UID:16923@arsmondo-online.de
DTSTART;TZID=Europe/Berlin:20260711T203000
DTEND;TZID=Europe/Berlin:20260711T203000
DTSTAMP:20251215T212123Z
URL:https://www.arsmondo-online.de/kulturtermine/3-schlosskonzert-feuerwer
 ksmusik/
SUMMARY:3. Schlosskonzert: Feuerwerksmusik
DESCRIPTION:Konzert zur Schlossbeleuchtung\n\nHeidelberger Schlossfestspiel
 e\n\n\nKonzert\nSchlosshof\n\n\n\n\n\nLeitung\n\nJunyoung Kim\n\n\n\n\n\nP
 hilharmonisches Orchester Heidelberg\n\n\n\n\nEin Abend voller Magie: Die 
 Heidelberger Schlossbeleuchtung zählt zu den spektakulärsten Ereignissen
  der Region – und wird in diesem Jahr musikalisch glanzvoll eingeleitet.
  So lässt sich Ludwig van Beethovens mitreißende 7. Sinfonie erleben\, e
 in Werk voller rhythmischer Energie und tänzerischer Leidenschaft\, das d
 er Komponist selbst als eines seiner gelungensten bezeichnete. Beethovens 
 Musik entfaltet hier eine mitreißende Dynamik\, die bis heute fasziniert.
  Gefolgt von Georg Friedrich Händels funkelnder »Feuerwerksmusik«\, die
  mit barocker Pracht und festlichem Glanz die Spannung auf das große Fina
 le steigen lässt. Händel schrieb dieses Werk 1749 für ein königliches 
 Freudenfest – und seine majestätischen Klänge entfalten auch heute noc
 h eine unwiderstehliche Strahlkraft. Ein Konzert\, das nicht nur musikalis
 ch begeistert\, sondern die Vorfreude auf die Schlossbeleuchtung in jedem 
 Takt spürbar macht.\n\n\n\n
CATEGORIES:Konzert
LOCATION:Schloss Heidelberg\, Schlosshof 1\, Heidelberg\, Baden-Württember
 g\, 69117 \, Rhein-Neckar\, Deutschland
X-APPLE-STRUCTURED-LOCATION;VALUE=URI;X-ADDRESS=Schlosshof 1\, Heidelberg\,
  Baden-Württemberg\, 69117 \, Rhein-Neckar\, Deutschland;X-APPLE-RADIUS=1
 00;X-TITLE=Schloss Heidelberg:geo:0,0
END:VEVENT
BEGIN:VTIMEZONE
TZID:Europe/Berlin
X-LIC-LOCATION:Europe/Berlin
BEGIN:DAYLIGHT
DTSTART:20260329T030000
TZOFFSETFROM:+0100
TZOFFSETTO:+0200
TZNAME:CEST
END:DAYLIGHT
END:VTIMEZONE
END:VCALENDAR