BEGIN:VCALENDAR
VERSION:2.0
PRODID:-//wp-events-plugin.com//7.2.3.1//EN
TZID:Europe/Berlin
X-WR-TIMEZONE:Europe/Berlin
BEGIN:VEVENT
UID:16954@arsmondo-online.de
DTSTART;TZID=Europe/Berlin:20260801T203000
DTEND;TZID=Europe/Berlin:20260801T203000
DTSTAMP:20251221T214805Z
URL:https://www.arsmondo-online.de/kulturtermine/5-schlosskonzert-addio/
SUMMARY:5. Schlosskonzert: Addio!
DESCRIPTION:Große Operngala auf dem Heidelberger Schloss\n\nHeidelberger S
 chlossfestspiele\n\n\nKonzert\nSchlosshof\n\n\n\n\n\n\n\nMusiktheaterensem
 ble des Theaters und Orchesters HeidelbergOpernchor des Theaters und Orche
 sters HeidelbergPhilharmonisches Orchester Heidelberg\n\n\n\nLeitung\n\nMi
 no MaraniDietger HolmJunyoung KimFlorian DanielPaul Breyer\n\n\n\n\nVor de
 r historischen Kulisse des Heidelberger Schlosses lädt das Philharmonisch
 e Orchester Heidelberg gemeinsam mit dem Opernensemble des Theaters und Or
 chesters Heidelberg zu einem glanzvollen Galaabend ein. Unter der musikali
 schen Leitung aller Dirigenten des Theaters und Orchesters Heidelberg erkl
 ingen die schönsten Arien\, Duette\, Ensembleszenen und Chöre aus der We
 lt der Oper – von der italienischen Leidenschaft eines Puccini bis zur d
 ramatischen Tiefe eines Verdi. Alle Sängerinnen und Sänger des Heidelber
 ger Ensembles der zu Ende gehenden Intendanz von Holger Schultze verleihen
  den Klassikern des Musiktheaters emotionale Strahlkraft und vokale Brilla
 nz. Ein Abend voller musikalischer Höhepunkte für Opernbegeisterte wie N
 eugierige\, der die Magie des Gesangs in den Mittelpunkt stellt.\n\n\n\n
CATEGORIES:Konzert
LOCATION:Schloss Heidelberg\, Schlosshof 1\, Heidelberg\, Baden-Württember
 g\, 69117 \, Rhein-Neckar\, Deutschland
X-APPLE-STRUCTURED-LOCATION;VALUE=URI;X-ADDRESS=Schlosshof 1\, Heidelberg\,
  Baden-Württemberg\, 69117 \, Rhein-Neckar\, Deutschland;X-APPLE-RADIUS=1
 00;X-TITLE=Schloss Heidelberg:geo:0,0
END:VEVENT
BEGIN:VTIMEZONE
TZID:Europe/Berlin
X-LIC-LOCATION:Europe/Berlin
BEGIN:DAYLIGHT
DTSTART:20260329T030000
TZOFFSETFROM:+0100
TZOFFSETTO:+0200
TZNAME:CEST
END:DAYLIGHT
END:VTIMEZONE
END:VCALENDAR