BEGIN:VCALENDAR
VERSION:2.0
PRODID:-//wp-events-plugin.com//7.2.3.1//EN
TZID:Europe/Berlin
X-WR-TIMEZONE:Europe/Berlin
BEGIN:VEVENT
UID:14600@arsmondo-online.de
DTSTART;TZID=Europe/Berlin:20260521T200000
DTEND;TZID=Europe/Berlin:20260521T200000
DTSTAMP:20250923T203216Z
URL:https://www.arsmondo-online.de/kulturtermine/6-kaleidoskop-back-to-the
 -70s/
SUMMARY:6. Kaleidoskop: Back to the 70s
DESCRIPTION:\n\nPop-Klassiker aus den 70ern\n\nViviane Essig &amp\; Henrik 
 Wager\, Gesang\nBand: \nHeiko Pape\, E-Bass\nThorsten Drücker\, E-Gitarre
 \nRolf Rasch\, Saxofon\nAndy Pilger\, Drums\n\nRasmus Baumann\, Leitung\n\
 n\n\n\n\n\nGehen Sie gemeinsam mit uns auf eine mitreißende Reise quer du
 rch die musikalische Bandbreite der Wilden 70er. Freuen Sie sich auf Songs
  von Elton John bis Stevie Wonder\, von Supertramp bis Paul McCartney.\n\n
 \n\n
CATEGORIES:Konzert
LOCATION:Stadthalle Reutlingen\, Manfred-Oechsle-Platz 1\, Reutlingen\, Bad
 en-Württemberg\, 72764\, Neckar-Alb\, Deutschland
X-APPLE-STRUCTURED-LOCATION;VALUE=URI;X-ADDRESS=Manfred-Oechsle-Platz 1\, R
 eutlingen\, Baden-Württemberg\, 72764\, Neckar-Alb\, Deutschland;X-APPLE-
 RADIUS=100;X-TITLE=Stadthalle Reutlingen:geo:0,0
END:VEVENT
BEGIN:VTIMEZONE
TZID:Europe/Berlin
X-LIC-LOCATION:Europe/Berlin
BEGIN:DAYLIGHT
DTSTART:20260329T030000
TZOFFSETFROM:+0100
TZOFFSETTO:+0200
TZNAME:CEST
END:DAYLIGHT
END:VTIMEZONE
END:VCALENDAR