BEGIN:VCALENDAR
VERSION:2.0
PRODID:-//wp-events-plugin.com//7.2.3.1//EN
TZID:Europe/Berlin
X-WR-TIMEZONE:Europe/Berlin
BEGIN:VEVENT
UID:18100@arsmondo-online.de
DTSTART;TZID=Europe/Berlin:20260512T193000
DTEND;TZID=Europe/Berlin:20260512T213000
DTSTAMP:20260409T154342Z
URL:https://www.arsmondo-online.de/kulturtermine/6-sinfoniekonzert-3/
SUMMARY:6. Sinfoniekonzert
DESCRIPTION:Das Konzert für Cello und Orchester des englischen Komponisten
  Edward Elgar war bei seiner Uraufführung zuerst ein Flop. Das Publikum h
 atte etwas anderes erwartet. Elgar war vor allem für seine prächtigen Po
 mp and Circumstance Märsche bekannt. Sein Cellokonzert entstand 1919 unmi
 ttelbar nach dem Ende des Ersten Weltkriegs und nach einer schweren persö
 nlichen Krise und Erkrankung Elgars. Zärtlich\, melancholisch und zuweile
 n traurig atmet dieses Werk eine intime\, große emotionale Tiefe und gilt
  heute als einer der Höhepunkte der romantischen Konzertliteratur.\nMit K
 risen kannte auch Gustav Mahler sich aus: Der österreichische Komponist s
 aß vor seiner 7. Sinfonie mit einer hartnäckigen Schreibblockade. Doch M
 ahler wusste sich zu helfen: Manchmal muss man nur aus dem Haus gehen\, um
  auf andere Gedanken zu kommen. Und beim Rudern über den Wörthersee plat
 zte der kreative Knoten endlich. Entstanden ist daraus eine mysteriöse un
 d mächtige Sinfonie voll faszinierender Nachtklänge und weltferner Einsa
 mkeiten nachtwandelnder Musiker*innen.\nGeneralmusikdirektor André de Rid
 der und der weltberühmte\, in Freiburg ansässige Cellist Jean-Guihen Que
 yras treffen sich im 6. Sinfoniekonzert mit dem Philharmonischen Orchester
  Freiburg zur Sternenwanderung.\n\nEdward Elgar (1857 – 1934): Cellokonz
 ert\nGustav Mahler (1860 – 1911): Sinfonie Nr. 7\n„Lied der Nacht“
CATEGORIES:Konzert
LOCATION:Konzerthaus Freiburg\,  Konrad-Adenauer-Platz 1\, Freiburg\, Baden
 -Württemberg\, 79098 \, Südlicher Oberrhein\, Deutschland
X-APPLE-STRUCTURED-LOCATION;VALUE=URI;X-ADDRESS= Konrad-Adenauer-Platz 1\, 
 Freiburg\, Baden-Württemberg\, 79098 \, Südlicher Oberrhein\, Deutschlan
 d;X-APPLE-RADIUS=100;X-TITLE=Konzerthaus Freiburg:geo:0,0
END:VEVENT
BEGIN:VTIMEZONE
TZID:Europe/Berlin
X-LIC-LOCATION:Europe/Berlin
BEGIN:DAYLIGHT
DTSTART:20260329T030000
TZOFFSETFROM:+0100
TZOFFSETTO:+0200
TZNAME:CEST
END:DAYLIGHT
END:VTIMEZONE
END:VCALENDAR