BEGIN:VCALENDAR
VERSION:2.0
PRODID:-//wp-events-plugin.com//7.2.3.1//EN
TZID:Europe/Berlin
X-WR-TIMEZONE:Europe/Berlin
BEGIN:VEVENT
UID:14601@arsmondo-online.de
DTSTART;TZID=Europe/Berlin:20260625T200000
DTEND;TZID=Europe/Berlin:20260625T200000
DTSTAMP:20250923T203350Z
URL:https://www.arsmondo-online.de/kulturtermine/7-kaleidoskop-baptiste-tr
 otignon/
SUMMARY:7. Kaleidoskop: Baptiste Trotignon
DESCRIPTION:\n\nBaptiste Trotignon\, "L'air de rien." - Concertino für Kla
 vier und Orchester \nEigene Arrangements von Broadway Songs\nWolfgang Amad
 eus Mozart\, Klavierkonzert F-Dur KV 37 mit Improvisationen\n\n\nWürttemb
 ergische Philharmonie Reutlingen\n\nBaptiste Trotignon\, Klavier\nAriane M
 atiakh\, Leitung\n\n\n\n\n\n\nDer vielseitige und vielfach preisgekrönte 
 französische Jazzpianist („Brexit Music“ 2023) hat sich inzwischen au
 ch als Komponist einen Namen gemacht. Zu erleben ist er als Improvisator 
 über Mozart\, als Arrangeur von Broadway-Songs und als Komponist seines W
 erks L’air de rien (Der Anschein von Nichts) für Klavier und Orchester.
  In diesem Stück dreht sich alles um Rhythmus\, am Ende stimmen Klavier u
 nd Orchester einen Tango an. Dabei ist der Orchesterpart in Noten festgeha
 lten\, das Klavier hingegen hat den Spielraum für viel Improvisation!\n\n
 \n\n
CATEGORIES:Konzert
LOCATION:Stadthalle Reutlingen\, Manfred-Oechsle-Platz 1\, Reutlingen\, Bad
 en-Württemberg\, 72764\, Neckar-Alb\, Deutschland
X-APPLE-STRUCTURED-LOCATION;VALUE=URI;X-ADDRESS=Manfred-Oechsle-Platz 1\, R
 eutlingen\, Baden-Württemberg\, 72764\, Neckar-Alb\, Deutschland;X-APPLE-
 RADIUS=100;X-TITLE=Stadthalle Reutlingen:geo:0,0
END:VEVENT
BEGIN:VTIMEZONE
TZID:Europe/Berlin
X-LIC-LOCATION:Europe/Berlin
BEGIN:DAYLIGHT
DTSTART:20260329T030000
TZOFFSETFROM:+0100
TZOFFSETTO:+0200
TZNAME:CEST
END:DAYLIGHT
END:VTIMEZONE
END:VCALENDAR