BEGIN:VCALENDAR
VERSION:2.0
PRODID:-//wp-events-plugin.com//7.2.3.1//EN
TZID:Europe/Berlin
X-WR-TIMEZONE:Europe/Berlin
BEGIN:VEVENT
UID:18200@arsmondo-online.de
DTSTART;TZID=Europe/Berlin:20260622T190000
DTEND;TZID=Europe/Berlin:20260622T210000
DTSTAMP:20260413T142945Z
URL:https://www.arsmondo-online.de/kulturtermine/agathe-rottweil-musikfest
 ival-sommersprossen/
SUMMARY:AGATHE! - Rottweil Musikfestival Sommersprossen
DESCRIPTION:AGATHE!           \n\nPräludium der Städtischen Mus
 ikschule: Querflöte\, Klasse Irena Soloducha-Moleta\n\nProgramm:\n\nWalen
 tyn Silvestrov (*1937)  -  Lacrimosa – Violoncello solo\n\nFelix Mende
 lssohn Bartholdy (1809-1847)  -  Variations sérieuses d-moll für Klavi
 er solo\, op. 54\n\nRobert Schumann (1810-1856)  -  Violinsonate Nr. 1 a
 -Moll\, op. 105\, für Violine und Klavier\n\nJohannes Brahms (1833-1897)
   -  Streichsextett Nr. 2 G-Dur für zwei Violinen\, zwei Violen und zwe
 i Violoncelli\, op. 36\n\nMitwirkende:\nTobias Feldmann         
   Violine\nFlorian Donderer            Violine\nMuriel Razavi 
                 Viola\nTanja Tetzlaff           
       Violoncello\nElisabeth Brauß              Klavier
 \n\nSignum Quartett\nFlorian Donderer           Violine\nAnnette
  Walther            Violine\nXandi van Dijk           
      Viola\nThomas Schmitz             Violoncello
ATTACH;FMTTYPE=image/jpeg:https://www.arsmondo-online.de/wp-content/upload
 s/2026/04/sospro_Logo_quadrat_700x700.jpg
CATEGORIES:Konzert
LOCATION:Kunststiftung Erich Hauser\, Saline 36\, Rottweil\, Baden-Württem
 berg\, 78628 \, Schwarzwald-Baar-Heuberg\, Deutschland
X-APPLE-STRUCTURED-LOCATION;VALUE=URI;X-ADDRESS=Saline 36\, Rottweil\, Bade
 n-Württemberg\, 78628 \, Schwarzwald-Baar-Heuberg\, Deutschland;X-APPLE-R
 ADIUS=100;X-TITLE=Kunststiftung Erich Hauser:geo:0,0
END:VEVENT
BEGIN:VTIMEZONE
TZID:Europe/Berlin
X-LIC-LOCATION:Europe/Berlin
BEGIN:DAYLIGHT
DTSTART:20260329T030000
TZOFFSETFROM:+0100
TZOFFSETTO:+0200
TZNAME:CEST
END:DAYLIGHT
END:VTIMEZONE
END:VCALENDAR