BEGIN:VCALENDAR
VERSION:2.0
PRODID:-//wp-events-plugin.com//7.2.3.1//EN
TZID:Europe/Berlin
X-WR-TIMEZONE:Europe/Berlin
BEGIN:VEVENT
UID:17525@arsmondo-online.de
DTSTART;TZID=Europe/Berlin:20260512T193000
DTEND;TZID=Europe/Berlin:20260512T203000
DTSTAMP:20260225T185757Z
URL:https://www.arsmondo-online.de/kulturtermine/allarme/
SUMMARY:ALL'ARME
DESCRIPTION:Ein intensiver Tanzabend\, der in seiner Form unter die Haut ge
 ht — minimalistisch\, ausdrucksstark und von einer zarten Kraft.\n\n\n\n
 \n„Zu den Waffen!" Ein Warnruf\, der zugleich zur Bereitschaft und Verte
 idigung aufruft. Genau diese Spannung zwischen individueller Handlungsfäh
 igkeit und kollektiver Kraft erforschen sechs Tänzerinnen in dieser präz
 isen choreografischen Arbeit von Ginevra Panzetti und Enrico Ticconi. Sie 
 loten die feine Grenze zwischen notwendiger Verteidigung und dem Risiko au
 s\, durch diese zu dem zu werden\, was wir am meisten fürchten: eine von 
 sich selbst berauschte Masse\, die keine Moral kennt. Den Ausgangspunkt bi
 ldet das (a)rhythmische Potenzial des menschlichen Schrittes in all seinen
  Möglichkeiten. ALL'ARME ist ein kraftvolles Tanzstück\, das sehr assozi
 ativ mit Körperbildern arbeitet und dabei viel Raum für Interpretation l
 ässt. Wir glauben eine (Militär-)Parade\, ein Massenevent zu sehen – o
 der sind wir mitten in einem Sportfest oder einem Rockkonzert gelandet? Pl
 ötzlich begegnen uns aus der Masse Individuen\, die ihre Wunden zeigen\, 
 sich gegenseitig helfen\, halten\, stützen und wiederaufrichten. Bilder z
 arten Verletzlichkeit gehen über in Bilder enormer Kraft. Wir sehen Tänz
 erinnen\, die sich abmühen und beweisen\, beäugt und bewertet werden und
  manches Mal aus der Reihe tanzen. Ein ständiges Wechselspiel. Die Inszen
 ierung berührt durch ihre virtuose Erkundung der Grenzen zwischen Schutz 
 und Aggression\, Stärke und Verletzlichkeit.\n\nSie wandelt auf dem schma
 len Grat zwischen Gruppe und Individuum\, Ermächtigung und Unterdrückung
  – und lässt zugleich die entwaffnende Menschlichkeit der Schwäche auf
 leuchten.\n\n
CATEGORIES:Tanz
LOCATION:Theater Freiburg Großes Haus\, Bertoldstr. 46\, Freiburg\, Baden-
 Württemberg\, 79098\, Südlicher Oberrhein\, Deutschland
X-APPLE-STRUCTURED-LOCATION;VALUE=URI;X-ADDRESS=Bertoldstr. 46\, Freiburg\,
  Baden-Württemberg\, 79098\, Südlicher Oberrhein\, Deutschland;X-APPLE-R
 ADIUS=100;X-TITLE=Theater Freiburg Großes Haus:geo:0,0
END:VEVENT
BEGIN:VTIMEZONE
TZID:Europe/Berlin
X-LIC-LOCATION:Europe/Berlin
BEGIN:DAYLIGHT
DTSTART:20260329T030000
TZOFFSETFROM:+0100
TZOFFSETTO:+0200
TZNAME:CEST
END:DAYLIGHT
END:VTIMEZONE
END:VCALENDAR