BEGIN:VCALENDAR
VERSION:2.0
PRODID:-//wp-events-plugin.com//7.2.3.1//EN
TZID:Europe/Berlin
X-WR-TIMEZONE:Europe/Berlin
BEGIN:VEVENT
UID:18222@arsmondo-online.de
DTSTART;TZID=Europe/Berlin:20260614T000000
DTEND;TZID=Europe/Berlin:20260614T000000
DTSTAMP:20260415T045554Z
URL:https://www.arsmondo-online.de/kulturtermine/alte-quellen-neue-wege-3/
SUMMARY:Alte Quellen – Neue Wege
DESCRIPTION:Sinfoniekonzert der Bodensee Philharmonie Konstanz. Programm: G
 abriel Fauré: Pelléas et Mélisande: Suite op. 80\; Francis Poulenc: Kon
 zert für Orgel\, Streicher und Pauke g-Moll\; Richard Strauss: Aus Italie
 n op. 16.\nChristian Schmitt Orgel\, Georg Fritzsch Leitung\nWeitere Termi
 n mit diesem Programm:\nDo\,11. Jun 26\, 19.30 Uhr\, Milchwerk Radolfzell\
 nInfo und Karten: www.bodensee-philharmonie.com\n\nChristian Schmitt\, Fot
 o © Uwe Arens
ATTACH;FMTTYPE=image/jpeg:https://www.arsmondo-online.de/wp-content/upload
 s/2026/04/ChristianSchmittOrgel.jpg
CATEGORIES:Konzert
LOCATION:Konzilgebäude\, Hafenstraße 2\, Konstanz\, Baden-Württemberg\, 
 78462 \, Hochrhein-Bodensee\, 
X-APPLE-STRUCTURED-LOCATION;VALUE=URI;X-ADDRESS=Hafenstraße 2\, Konstanz\,
  Baden-Württemberg\, 78462 \, Hochrhein-Bodensee\, ;X-APPLE-RADIUS=100;X-
 TITLE=Konzilgebäude:geo:0,0
END:VEVENT
BEGIN:VTIMEZONE
TZID:Europe/Berlin
X-LIC-LOCATION:Europe/Berlin
BEGIN:DAYLIGHT
DTSTART:20260329T030000
TZOFFSETFROM:+0100
TZOFFSETTO:+0200
TZNAME:CEST
END:DAYLIGHT
END:VTIMEZONE
END:VCALENDAR