BEGIN:VCALENDAR
VERSION:2.0
PRODID:-//wp-events-plugin.com//7.2.3.1//EN
TZID:Europe/Berlin
X-WR-TIMEZONE:Europe/Berlin
BEGIN:VEVENT
UID:17685@arsmondo-online.de
DTSTART;TZID=Europe/Berlin:20260412T143000
DTEND;TZID=Europe/Berlin:20261018T153000
DTSTAMP:20260307T170030Z
URL:https://www.arsmondo-online.de/kulturtermine/ausstellungsfuehrung-karl
 -hofer-zwischen-schoenheit-und-wahrheit/
SUMMARY:Ausstellungsführung Karl Hofer. Zwischen Schönheit und Wahrheit
DESCRIPTION:5 € pro Person zzgl. Eintritt €\n\n\nFührung durch die Aus
 stellung „Karl Hofer“\, ohne Voranmeldung\, um 14.30 Uhr!\n\nKarl Hofe
 r (1878-1955) zählt zu den eigenständigsten Malern der deutschen Moderne
 . Zwischen Neuer Sachlichkeit und Magischem Realismus entwickelte er eine 
 unverwechselbare Bildsprache. Die Ausstellung zeigt über 60 Gemälde\, di
 e die wichtigsten Themen\, die ästhetische Kraft und das ihr zugrunde lie
 gende Menschenbild in Hofers Malerei anhand von Beispielen aus allen Schaf
 fensphasen präsentieren.\n\n
CATEGORIES:Kunst
LOCATION:Schloss Achberg\, Achberg 2\, Achberg\, Baden-Württemberg\, 88147
 \, Bodensee-Oberschwaben\, Deutschland
X-APPLE-STRUCTURED-LOCATION;VALUE=URI;X-ADDRESS=Achberg 2\, Achberg\, Baden
 -Württemberg\, 88147\, Bodensee-Oberschwaben\, Deutschland;X-APPLE-RADIUS
 =100;X-TITLE=Schloss Achberg:geo:0,0
END:VEVENT
BEGIN:VTIMEZONE
TZID:Europe/Berlin
X-LIC-LOCATION:Europe/Berlin
BEGIN:DAYLIGHT
DTSTART:20260329T030000
TZOFFSETFROM:+0100
TZOFFSETTO:+0200
TZNAME:CEST
END:DAYLIGHT
END:VTIMEZONE
END:VCALENDAR