BEGIN:VCALENDAR
VERSION:2.0
PRODID:-//wp-events-plugin.com//7.2.3.1//EN
TZID:Europe/Berlin
X-WR-TIMEZONE:Europe/Berlin
BEGIN:VEVENT
UID:17690@arsmondo-online.de
DTSTART;TZID=Europe/Berlin:20260516T200000
DTEND;TZID=Europe/Berlin:20260516T214500
DTSTAMP:20260307T170906Z
URL:https://www.arsmondo-online.de/kulturtermine/barock_plus-in-freundscha
 ft/
SUMMARY:Barock_Plus - In Freundschaft
DESCRIPTION:Johann Sebastian Bach und Georg Philipp Telemann waren nicht nu
 r Zeitgenossen und Kollegen\, die die Arbeit des jeweils anderen schätzte
 n\, sie waren auch miteinander in Freundschaft verbunden. Zwischen Teleman
 n und Georg Friedrich Händel bestand ebenfalls eine freundschaftliche Ver
 bindung\, die über die gegenseitige Wertschätzung als Komponisten hinaus
 ging. So hielten der Hamburger Telemann und der in London lebende Händel 
 unter anderem Korrespondenz über philosophische Themen und die Freuden de
 s Gärtnerns. Obwohl sich Bach und Händel zeitlebens nie persönlich bege
 gneten\, einte sie doch das gemeinsame Interesse an der Kunst italienische
 r Meister wie Arcangelo Corelli\, Francesco Geminiani und natürlich auch 
 Antonio Vivaldi\, die sie beide studierten und von welchen sie zu eigenen 
 Werken inspiriert wurden. Die besonderen Freundschaftsbeziehungen dieser g
 roßen Barockmeister zeichnen die Mitglieder von Barock_Plus in ihrem Konz
 ert musikalisch nach. 2024 wurde das Ensemble beim Deutschen Musikwettbewe
 rb ausgezeichnet und im letzten Jahr in die Konzertförderung des Deutsche
 n Musikrats aufgenommen.\n\nBild: Teaseok Oh
ATTACH;FMTTYPE=image/jpeg:https://www.arsmondo-online.de/wp-content/upload
 s/2026/03/Barock_Plus_1_c_Taeseok_Oh.jpg
CATEGORIES:Konzert
LOCATION:Klosterkirche\, Klosterhof\, Maulbronn\, Baden-Württemberg\, 7543
 3\, Enzkreis\, Deutschland
X-APPLE-STRUCTURED-LOCATION;VALUE=URI;X-ADDRESS=Klosterhof\, Maulbronn\, Ba
 den-Württemberg\, 75433\, Enzkreis\, Deutschland;X-APPLE-RADIUS=100;X-TIT
 LE=Klosterkirche:geo:0,0
END:VEVENT
BEGIN:VTIMEZONE
TZID:Europe/Berlin
X-LIC-LOCATION:Europe/Berlin
BEGIN:DAYLIGHT
DTSTART:20260329T030000
TZOFFSETFROM:+0100
TZOFFSETTO:+0200
TZNAME:CEST
END:DAYLIGHT
END:VTIMEZONE
END:VCALENDAR