BEGIN:VCALENDAR
VERSION:2.0
PRODID:-//wp-events-plugin.com//7.2.3.1//EN
TZID:Europe/Berlin
X-WR-TIMEZONE:Europe/Berlin
BEGIN:VEVENT
UID:16064@arsmondo-online.de
DTSTART;TZID=Europe/Berlin:20260529T193000
DTEND;TZID=Europe/Berlin:20260529T193000
DTSTAMP:20251101T162633Z
URL:https://www.arsmondo-online.de/kulturtermine/beeeeeeee/
SUMMARY:BEEEEEEEE
DESCRIPTION:Ludwig van Beethoven: Sinfonie Nr. 8 F-Dur op. 93\n\n\n\nKonzer
 t\nAlter Saal\n\n\n\n\n\n\n\nPhilharmonisches Orchester Heidelberg\n\n\n\n
 Leitung\n\nMino Marani\n\n\n\n\nBeethovens 8. Sinfonie steht im Kontrast z
 u den sie umrahmenden großen Sinfonien Sieben und Neun. Sie klingt\, als 
 ob der Komponist noch einmal den musikalischen Witz hervorkehrt – ganz w
 ie sein Lehrer Joseph Haydn es vorgemacht hatte. Die kurze 8. Sinfonie gre
 ift auf bereits überwundene Formen zurück. Doch in dem Maß\, in dem Bee
 thoven sie in Frage stellt\, ist er ein Neuerer par excellence. Wieder zei
 gt sich: Beethoven ist ein kreativer Geist ohne Schranken – und das\, ob
 wohl er zu diesem Zeitpunkt nur noch innerlich hören kann.\n\n\n\n\n\n\n\
 n\n
CATEGORIES:Konzert
LOCATION:Theater und Orchester Heidelberg\, Theaterstraße 10\, Heidelberg\
 , Baden-Württemberg\, 69117\, Rhein-Neckar\, Deutschland
X-APPLE-STRUCTURED-LOCATION;VALUE=URI;X-ADDRESS=Theaterstraße 10\, Heidelb
 erg\, Baden-Württemberg\, 69117\, Rhein-Neckar\, Deutschland;X-APPLE-RADI
 US=100;X-TITLE=Theater und Orchester Heidelberg:geo:0,0
END:VEVENT
BEGIN:VTIMEZONE
TZID:Europe/Berlin
X-LIC-LOCATION:Europe/Berlin
BEGIN:DAYLIGHT
DTSTART:20260329T030000
TZOFFSETFROM:+0100
TZOFFSETTO:+0200
TZNAME:CEST
END:DAYLIGHT
END:VTIMEZONE
END:VCALENDAR