BEGIN:VCALENDAR
VERSION:2.0
PRODID:-//wp-events-plugin.com//7.2.3.1//EN
TZID:Europe/Berlin
X-WR-TIMEZONE:Europe/Berlin
BEGIN:VEVENT
UID:17707@arsmondo-online.de
DTSTART;TZID=Europe/Berlin:20260904T200000
DTEND;TZID=Europe/Berlin:20260904T220000
DTSTAMP:20260307T171342Z
URL:https://www.arsmondo-online.de/kulturtermine/bernd-glemser-20-jahre-ar
 tist-in-residence/
SUMMARY:Bernd Glemser - 20 Jahre Artist in Residence
DESCRIPTION:Vor genau 20 Jahren begann\, was inzwischen zu einer kleinen In
 stitution geworden ist: Bernd Glemsers Engagement als Permanent Artist in 
 Residence der Klosterkonzerte. Und tatsächlich ist seine Kammermusikwoche
 \, in der er jedes Jahr befreundete Künstler zum gemeinsamen Musizieren i
 ns Laienrefektorium lädt\, zu einer festen Säule im Programm unseres Fes
 tivals geworden. »Wenn ich durch das Klostertor komme\, ist es für mich 
 jedes Mal\, als ob ich nach Hause komme. Die Farben\, die goldenen Momente
  …«\, schwärmt der Pianist. Von Anfang an steht bei Glemser die Musik 
 im Mittelpunkt. Und dafür braucht er Gleichgesinnte\, Musikerinnen und Mu
 siker\, mit deren Art zu musizieren er harmoniert. In den vergangenen 20 J
 ahren sind dabei Freundschaften entstanden\, die sich weiterentwickelt hab
 en. Mirijam Contzen und das Gewandhaus-Quartett gehören ebenso dazu wie d
 er Klarinettist Dimitri Ashkenazy und viele andere. Im ersten Konzert der 
 Jubiläums-Ausgabe seiner Kammermusikwoche ist Bernd Glemser zunächst abe
 r solistisch zu erleben und zeigt seine pianistische Bandbreite mit Haydns
  Andante con variazioni\, Beethovens Klaviersonate op. 109 sowie einigen I
 mpromptus\, Nocturnes\, Mazurkas und Balladen von Frédéric Chopin.\n\nBi
 ld: Werner Kmetitsch
ATTACH;FMTTYPE=image/jpeg:https://www.arsmondo-online.de/wp-content/upload
 s/2026/03/BerndGlemser_c_WernerKmetitsch-7_komprimiert.jpg
CATEGORIES:Konzert
LOCATION:Laienrefektorium\, Klosterhof\, Maulbronn\, Baden-Württemberg\, 7
 5433\, Enzkreis\, Deutschland
X-APPLE-STRUCTURED-LOCATION;VALUE=URI;X-ADDRESS=Klosterhof\, Maulbronn\, Ba
 den-Württemberg\, 75433\, Enzkreis\, Deutschland;X-APPLE-RADIUS=100;X-TIT
 LE=Laienrefektorium:geo:0,0
END:VEVENT
BEGIN:VTIMEZONE
TZID:Europe/Berlin
X-LIC-LOCATION:Europe/Berlin
BEGIN:DAYLIGHT
DTSTART:20260329T030000
TZOFFSETFROM:+0100
TZOFFSETTO:+0200
TZNAME:CEST
END:DAYLIGHT
END:VTIMEZONE
END:VCALENDAR