BEGIN:VCALENDAR
VERSION:2.0
PRODID:-//wp-events-plugin.com//7.2.3.1//EN
TZID:Europe/Berlin
X-WR-TIMEZONE:Europe/Berlin
BEGIN:VEVENT
UID:17708@arsmondo-online.de
DTSTART;TZID=Europe/Berlin:20260905T200000
DTEND;TZID=Europe/Berlin:20260905T220000
DTSTAMP:20260307T171316Z
URL:https://www.arsmondo-online.de/kulturtermine/bernd-glemser-mirijam-con
 tzen-klavier-violine/
SUMMARY:Bernd Glemser  &amp\; Mirijam Contzen - Klavier &amp\; Violine
DESCRIPTION:Für das zweite Konzert seiner Kammermusikwoche hat sich Bernd 
 Glemser eine langjährige musikalische Weggefährtin eingeladen\, mit der 
 er in Maulbronn bereits mehrere umjubelte Duoabende gegeben hat: die Geige
 rin Mirijam Contzen. In diesem Jahr spannen sie gemeinsam einen Bogen von 
 der mitreißenden Expressivität der Wiener Klassik bis zur intimen Klangs
 prache der Romantik. Den Auftakt bilden Clara Schumanns fein nuancierte Dr
 ei Romanzen – poetische Miniaturen voller Innigkeit\, Eleganz und empfin
 dsamer Tiefe. Es folgt Gabriel Faurés Sonate Nr. 1 A-Dur op. 13\, ein Mei
 sterwerk der französischen Kammermusik\, das lyrische Wärme mit virtuose
 r Brillanz und farbenreicher Harmonik verbindet. Nach der Pause steht Ludw
 ig van Beethovens Sonate Nr. 9 A-Dur op. 47 auf dem Programm\, die berühm
 te Kreutzer-Sonate. Mit ihrer dramatischen Wucht\, rhythmischen Energie un
 d ihrem dialogischen Spannungsreichtum zählt sie zu den Gipfelwerken der 
 Violinliteratur. Das Publikum darf sich auf zwei herausragende Künstlerpe
 rsönlichkeiten und einen Abend voller musikalischer Intensität\, inspiri
 erten Zusammenspiels und kammermusikalischer Leidenschaft freuen.\n\nBild:
  Josep Molina
ATTACH;FMTTYPE=image/jpeg:https://www.arsmondo-online.de/wp-content/upload
 s/2026/03/MC-1-c-Josep-Molina_komprimiert.jpg
CATEGORIES:Konzert
LOCATION:Laienrefektorium\, Klosterhof\, Maulbronn\, Baden-Württemberg\, 7
 5433\, Enzkreis\, Deutschland
X-APPLE-STRUCTURED-LOCATION;VALUE=URI;X-ADDRESS=Klosterhof\, Maulbronn\, Ba
 den-Württemberg\, 75433\, Enzkreis\, Deutschland;X-APPLE-RADIUS=100;X-TIT
 LE=Laienrefektorium:geo:0,0
END:VEVENT
BEGIN:VTIMEZONE
TZID:Europe/Berlin
X-LIC-LOCATION:Europe/Berlin
BEGIN:DAYLIGHT
DTSTART:20260329T030000
TZOFFSETFROM:+0100
TZOFFSETTO:+0200
TZNAME:CEST
END:DAYLIGHT
END:VTIMEZONE
END:VCALENDAR