BEGIN:VCALENDAR
VERSION:2.0
PRODID:-//wp-events-plugin.com//7.2.3.1//EN
TZID:Europe/Berlin
X-WR-TIMEZONE:Europe/Berlin
BEGIN:VEVENT
UID:18105@arsmondo-online.de
DTSTART;TZID=Europe/Berlin:20260428T120000
DTEND;TZID=Europe/Berlin:20260429T170000
DTSTAMP:20260409T154155Z
URL:https://www.arsmondo-online.de/kulturtermine/bundesweites-arbeitstreff
 en-der-notfallverbuende-2026/
SUMMARY:Bundesweites Arbeitstreffen der Notfallverbünde 2026
DESCRIPTION:Das inzwischen jährlich stattfindende Arbeitstreffen dient der
  Vernetzung\, dem Austausch und der Weiterbildung der Mitglieder der Notfa
 llverbünde und weiterer Interessierter. 2026 lädt der Notfallverbund Kar
 lsruhe zu spannenden Vorträgen und interessanten Führungen durch die Ka
 rlsruher Institutionen sowie zu einem abendlichen Netzwerktreffen ein.\nWa
 s ist ein Notfallverbund?\n\nEin Notfallverbund ist ein Zusammenschluss me
 hrerer Museen\, Archive und/oder Bibliotheken auf lokaler oder regionaler 
 Ebene. Ziel eines Notfallverbundes ist es\, sich bei Bedarf im Notfall mit
  Material und Personal gegenseitig zu unterstützen\, aber sich auch gemei
 nsam präventiv auf einen Notfall vorzubereiten und Erfahrungen auszutausc
 hen. Dazu gehört auch die Kooperation mit den Gefahrenabwehrbehörden vor
  Ort.\n\nKonkrete Aufgaben eines Notfallverbundes sind zum Beispiel Maßna
 hmen für eine erfolgreiche Alarmbereitschaft\, Notfallübungen und Fortbi
 ldungen zur Notfallvorsorge\, die Unterhaltung einer Notfalldatenbank sowi
 e das Abschließen von Rahmenvereinbarungen zur Logistik im Notfall.\n\nDa
 nk der finanziellen Unterstützung durch das Bundesamt für Bevölkerungss
 chutz und Katastrophenhilfe (BBK) sowie das Ministerium für Wissenschaft\
 , Forschung und Kunst (MWK) ist die Teilnahme kostenlos.\n\nBildcredit: A
 nabel Fabry
ATTACH;FMTTYPE=image/jpeg:https://www.arsmondo-online.de/wp-content/upload
 s/2026/04/20210802_RETTUNG-HOCHWASSER-KUNS.jpg
CATEGORIES:Crossover
LOCATION:ZKM | Zentrum für Kunst und Medien\, Lorenzstraße 19\, Karlsruhe
 \, Baden-Württemberg\, 76135\, Mittlerer Oberrhein\, Deutschland
X-APPLE-STRUCTURED-LOCATION;VALUE=URI;X-ADDRESS=Lorenzstraße 19\, Karlsruh
 e\, Baden-Württemberg\, 76135\, Mittlerer Oberrhein\, Deutschland;X-APPLE
 -RADIUS=100;X-TITLE=ZKM | Zentrum für Kunst und Medien:geo:0,0
END:VEVENT
BEGIN:VTIMEZONE
TZID:Europe/Berlin
X-LIC-LOCATION:Europe/Berlin
BEGIN:DAYLIGHT
DTSTART:20260329T030000
TZOFFSETFROM:+0100
TZOFFSETTO:+0200
TZNAME:CEST
END:DAYLIGHT
END:VTIMEZONE
END:VCALENDAR