BEGIN:VCALENDAR
VERSION:2.0
PRODID:-//wp-events-plugin.com//7.2.3.1//EN
TZID:Europe/Berlin
X-WR-TIMEZONE:Europe/Berlin
BEGIN:VEVENT
UID:18230@arsmondo-online.de
DTSTART;TZID=Europe/Berlin:20260513T193000
DTEND;TZID=Europe/Berlin:20260513T213000
DTSTAMP:20260420T143948Z
URL:https://www.arsmondo-online.de/kulturtermine/casanova-3/
SUMMARY:Casanova
DESCRIPTION:Revue-Operette von Johann Strauss und Ralph Benatzky\n\nMusikal
 ische Leitung: Keren Kagarlitzky\n\nRegie: Marco Štorman\n\nEigentlich i
 st Casanova gewohnt\, dass alles so läuft\, wie er sich das vorstellt\, s
 chließlich ist das hier die Casanova-Show! Und war schon immer so. Barber
 ina sieht das anders und wenn es nach ihr ginge\, würde nicht alles beim 
 Alten bleiben. Und so präsentiert sie ihre Sicht auf die Dinge\, die die 
 Welt bedeuten: auf die Liebe\, auf das Begehren – und wie man beides mit
  dem Leben in Verbindung bringen kann.\n\nFoto: Matthias Baus
ATTACH;FMTTYPE=image/jpeg:https://www.arsmondo-online.de/wp-content/upload
 s/2026/04/Casanova-Bild.jpg
CATEGORIES:Oper und Musiktheater
LOCATION:Staatstheater Stuttgart\, Opernhaus\, Oberer Schloßgarten 6\, Stu
 ttgart\, Baden-Württemberg\, 70173 \, Stuttgart\, Deutschland
X-APPLE-STRUCTURED-LOCATION;VALUE=URI;X-ADDRESS=Oberer Schloßgarten 6\, St
 uttgart\, Baden-Württemberg\, 70173 \, Stuttgart\, Deutschland;X-APPLE-RA
 DIUS=100;X-TITLE=Staatstheater Stuttgart\, Opernhaus:geo:0,0
END:VEVENT
BEGIN:VTIMEZONE
TZID:Europe/Berlin
X-LIC-LOCATION:Europe/Berlin
BEGIN:DAYLIGHT
DTSTART:20260329T030000
TZOFFSETFROM:+0100
TZOFFSETTO:+0200
TZNAME:CEST
END:DAYLIGHT
END:VTIMEZONE
END:VCALENDAR