BEGIN:VCALENDAR
VERSION:2.0
PRODID:-//wp-events-plugin.com//7.2.3.1//EN
TZID:Europe/Berlin
X-WR-TIMEZONE:Europe/Berlin
BEGIN:VEVENT
UID:17698@arsmondo-online.de
DTSTART;TZID=Europe/Berlin:20260626T200000
DTEND;TZID=Europe/Berlin:20260626T220000
DTSTAMP:20260307T171058Z
URL:https://www.arsmondo-online.de/kulturtermine/chanticleer-sing-joyfully
 /
SUMMARY:Chanticleer - Sing Joyfully
DESCRIPTION:Botaniker würden hinter dem Namen Chanticleer vielleicht eher 
 die Zierbirne Pyrus calleryana vermuten\, die sich durch ihre üppigen wei
 ßen Blüten und das leuchtend rote Herbstlaub auszeichnet. Und obwohl der
  Kreuzganggarten bestimmt ein idealer Standort für dieses Solitärgehölz
  wäre\, soll ein anderer Namensträger an diesem Abend die Hauptrolle üb
 ernehmen. Gemeint ist das US-amerikanische A-cappella-Ensemble\, das sich 
 nicht nach der schlanken Birne\, sondern nach einem klar singenden Hahn au
 s Geoffrey Chaucers Canterbury Tales aus dem 14. Jahrhundert benannt hat. 
 Das Männerensemble ist seit seiner Gründung im Jahre 1978 für seinen re
 inen und homogenen Ensembleklang bekannt.\nBesonders eindrucksvoll und rei
 bungslos gestaltet das zwölfköpfige Ensemble bestehend aus Countertenör
 en\, Tenören\, Baritonen und Bassisten den Übergang zwischen den Stimmla
 gen\, so dass sie tatsächlich zu einem einzigen Klangkörper verschmelzen
 . Dass sie dabei eine tiefe Freude am Gesang verspüren\, wird vor allem d
 ann hörbar\, wenn sie Werke von Renaissance-Komponisten wie Guillaume de 
 Machaut\, Orlando di Lasso oder William Byrd ebenso anmutig und klar inter
 pretieren\, wie traditionelle Folk Songs\, Spirituals oder Kompositionen v
 on Michael McGlynn\, Majel Connery oder Joni Mitchell.\n\nBild: Scott Sara
 ceno
ATTACH;FMTTYPE=image/jpeg:https://www.arsmondo-online.de/wp-content/upload
 s/2026/03/chanticleer_c_Scott-Saraceno_komprimiert.jpg
CATEGORIES:Konzert
LOCATION:Kloster Maulbronn Kreuzganggarten\, Klosterhof 5\, Maulbronn\, Bad
 en-Württemberg\, 75433\, Enzkreis\, Deutschland
X-APPLE-STRUCTURED-LOCATION;VALUE=URI;X-ADDRESS=Klosterhof 5\, Maulbronn\, 
 Baden-Württemberg\, 75433\, Enzkreis\, Deutschland;X-APPLE-RADIUS=100;X-T
 ITLE=Kloster Maulbronn Kreuzganggarten:geo:0,0
END:VEVENT
BEGIN:VTIMEZONE
TZID:Europe/Berlin
X-LIC-LOCATION:Europe/Berlin
BEGIN:DAYLIGHT
DTSTART:20260329T030000
TZOFFSETFROM:+0100
TZOFFSETTO:+0200
TZNAME:CEST
END:DAYLIGHT
END:VTIMEZONE
END:VCALENDAR