BEGIN:VCALENDAR
VERSION:2.0
PRODID:-//wp-events-plugin.com//7.2.3.1//EN
TZID:Europe/Berlin
X-WR-TIMEZONE:Europe/Berlin
BEGIN:VEVENT
UID:17693@arsmondo-online.de
DTSTART;TZID=Europe/Berlin:20260606T200000
DTEND;TZID=Europe/Berlin:20260606T213000
DTSTAMP:20260307T170924Z
URL:https://www.arsmondo-online.de/kulturtermine/christian-redl-christian-
 poltera-mara/
SUMMARY:Christian Redl &amp\; Christian Poltéra - Mara
DESCRIPTION:Es ist 300 Jahre alt\, hat in Cremona unter den Händen von Ant
 onio Stradivari das Licht der Welt erblickt und eine mehr als bewegte Lebe
 nsgeschichte hinter sich. Das Mara\, eines der berühmtesten Cellos überh
 aupt\, reiste um die ganze Welt\, kam bei einem Schiffsunglück beinahe um
 s Leben und trägt Narben eines jähzornigen Vorbesitzers an seinem Körpe
 r. Der Cellist Christian Poltéra bewahrte es in letzter Sekunde vor einem
  weiteren Schicksalsschlag und genießt seitdem das Privileg\, auf ihm spi
 elen zu dürfen. Die Geschichte ist so faszinierend\, dass der österreich
 ische Autor Wolf Wondratschek das Instrument in einer Erzählung selbst zu
  Wort kommen ließ. Mit seiner unnachahmlichen Stimme lässt der Charakter
 schauspieler und gefragte Hörbuchsprecher Christian Redl die Erzählung l
 ebendig werden. Das Mara selbst erklingt unter den Händen von Christian P
 oltéra mit Werken von Johann Sebastian Bach und Benjamin Britten.\n\nBild
 : Irene Zandel
ATTACH;FMTTYPE=image/jpeg:https://www.arsmondo-online.de/wp-content/upload
 s/2026/03/Christian-Poltera_c_Irene-Zandel_komprimiert.jpg
CATEGORIES:Konzert
LOCATION:Laienrefektorium\, Klosterhof\, Maulbronn\, Baden-Württemberg\, 7
 5433\, Enzkreis\, Deutschland
X-APPLE-STRUCTURED-LOCATION;VALUE=URI;X-ADDRESS=Klosterhof\, Maulbronn\, Ba
 den-Württemberg\, 75433\, Enzkreis\, Deutschland;X-APPLE-RADIUS=100;X-TIT
 LE=Laienrefektorium:geo:0,0
END:VEVENT
BEGIN:VTIMEZONE
TZID:Europe/Berlin
X-LIC-LOCATION:Europe/Berlin
BEGIN:DAYLIGHT
DTSTART:20260329T030000
TZOFFSETFROM:+0100
TZOFFSETTO:+0200
TZNAME:CEST
END:DAYLIGHT
END:VTIMEZONE
END:VCALENDAR