BEGIN:VCALENDAR
VERSION:2.0
PRODID:-//wp-events-plugin.com//7.2.3.1//EN
TZID:Europe/Berlin
X-WR-TIMEZONE:Europe/Berlin
BEGIN:VEVENT
UID:17395@arsmondo-online.de
DTSTART;TZID=Europe/Berlin:20260430T193000
DTEND;TZID=Europe/Berlin:20260617T220000
DTSTAMP:20260219T160045Z
URL:https://www.arsmondo-online.de/kulturtermine/creative-dialogues/
SUMMARY:Creative Dialogues
DESCRIPTION:\n\n\nTanztheater von Steffen Fuchs und Annett Göhre \n\nRund 
 300 Kilometer Luftlinie trennen Ulm und Koblenz\, doch in diesem Stück r
 ücken die beiden Städte künstlerisch nah zusammen. Steffen Fuchs\, Ball
 ettdirektor am Theater Koblenz\, und die Ulmer Tanztheaterdirektorin Annet
 t Göhre wagen ein Experiment.\n\nBeide entwickeln eine eigene Choreografi
 e und proben diese mit ihrer Compagnie sowie dem jeweils anderen Ensemble.
  Über ihre tänzerischen Visionen sind sie beständig im Austausch.\n\nDi
 e daraus entstehenden »Creative Dialogues« — kreativen Dialoge — wer
 den in Ulm und Koblenz beinahe zeitgleich zur Aufführung gebracht und von
  der jeweiligen Compagnie gezeigt.\n\nOptisch verklammert durch die Aussta
 ttung von Sascha Thomsen\, nehmen beide Choreografien das Wechselspiel von
  Nähe und Distanz\, den dynamischen Prozess zwischen Verschmelzen und Aus
 loten von Grenzen in den Blick.\nAls Impuls und Inspiration dafür dient e
 ines der außergewöhnlichsten Künstlerpaare überhaupt: Simone de Beauvo
 ir und Jean-Paul Sartre. Als Philosophen forderten sie einander heraus\, 
 waren in einem ständigen Dialog über ihr Denken und Schreiben – und le
 bten gleichzeitig 51 Jahre lang eine aufsehenerregende Liebe\, deren Spiel
 regeln sie selbst festlegten.\n\nIn Kooperation mit dem Theater Koblenz\n\
 n\n\nEinführung vor Vorstellung 19.00\n\nUraufführung\nDonnerstag\, 30. 
 April 2026\, 19.30 Uhr\, Großes Haus\n\nMatinée\nSonntag\, 19. April 202
 6\, 11.00 Uhr\, Großes Haus\n\nAltersfreigabe [12+]\n\nMit freundlicher 
 Unterstützung von Peter Liebchen\n\n\n\n\n\n\nChoreografie &amp\; Inszeni
 erung Steffen Fuchs \nAnnett Göhre\nAusstattung Sascha Thomsen\n
CATEGORIES:Tanz
LOCATION:Theater Ulm\, Hebert-von-Karajan-Platz 1\, Ulm\, Baden-Württember
 g\, 89073\, Donau-Iller\, Deutschland
X-APPLE-STRUCTURED-LOCATION;VALUE=URI;X-ADDRESS=Hebert-von-Karajan-Platz 1\
 , Ulm\, Baden-Württemberg\, 89073\, Donau-Iller\, Deutschland;X-APPLE-RAD
 IUS=100;X-TITLE=Theater Ulm:geo:0,0
END:VEVENT
BEGIN:VTIMEZONE
TZID:Europe/Berlin
X-LIC-LOCATION:Europe/Berlin
BEGIN:DAYLIGHT
DTSTART:20260329T030000
TZOFFSETFROM:+0100
TZOFFSETTO:+0200
TZNAME:CEST
END:DAYLIGHT
END:VTIMEZONE
END:VCALENDAR