BEGIN:VCALENDAR
VERSION:2.0
PRODID:-//wp-events-plugin.com//7.2.3.1//EN
TZID:Europe/Berlin
X-WR-TIMEZONE:Europe/Berlin
BEGIN:VEVENT
UID:18097@arsmondo-online.de
DTSTART;TZID=Europe/Berlin:20260503T000000
DTEND;TZID=Europe/Berlin:20260510T180000
DTSTAMP:20260409T154751Z
URL:https://www.arsmondo-online.de/kulturtermine/das-festmahl-der-spinne/
SUMMARY:Das Festmahl der Spinne
DESCRIPTION:In der Ballettmusik von Albert Roussel haben Spinnen\, Schmette
 rlinge\, Regenwürmer und Eintagsfliegen ihren großen Auftritt und erzäh
 len nicht nur die Geschichte einer hungrigen Spinne. Unser Swarm Lab\, ein
 e Gruppe tanzfreudiger Jugendlicher unter der Leitung von Andy Zondag\, l
 ässt die Insekten tanzen. Die Musik kommt live vom Philharmonischen Orche
 ster Freiburg.\n&nbsp\;\nFamilienkonzert mit dem Swarm Lab und der Musik v
 on Albert Roussel\n\n\n\n&nbsp\;\n\n\nMusikalische Leitung: André de Rid
 der\, Konzept und szenische Einrichtung: Annika Kirschke\, Choreografie
 : Andy Zondag\n\nMit: Philharmonisches Orchester Freiburg\, Victor Cale
 ro\n\n\n\n
CATEGORIES:Tanz
LOCATION:Theater Freiburg Großes Haus\, Bertoldstr. 46\, Freiburg\, Baden-
 Württemberg\, 79098\, Südlicher Oberrhein\, Deutschland
X-APPLE-STRUCTURED-LOCATION;VALUE=URI;X-ADDRESS=Bertoldstr. 46\, Freiburg\,
  Baden-Württemberg\, 79098\, Südlicher Oberrhein\, Deutschland;X-APPLE-R
 ADIUS=100;X-TITLE=Theater Freiburg Großes Haus:geo:0,0
END:VEVENT
BEGIN:VTIMEZONE
TZID:Europe/Berlin
X-LIC-LOCATION:Europe/Berlin
BEGIN:DAYLIGHT
DTSTART:20260329T030000
TZOFFSETFROM:+0100
TZOFFSETTO:+0200
TZNAME:CEST
END:DAYLIGHT
END:VTIMEZONE
END:VCALENDAR