BEGIN:VCALENDAR
VERSION:2.0
PRODID:-//wp-events-plugin.com//7.2.3.1//EN
TZID:Europe/Berlin
X-WR-TIMEZONE:Europe/Berlin
BEGIN:VEVENT
UID:6060@arsmondo-online.de
DTSTART;TZID=Europe/Berlin;VALUE=DATE:20250123
DTEND;TZID=Europe/Berlin;VALUE=DATE:20250124
DTSTAMP:20240324T173526Z
URL:https://www.arsmondo-online.de/kulturtermine/dein-fleischermuseum-jubi
 laeumsausstellung-2025-01-23/
SUMMARY:Dein Fleischermuseum - Jubiläumsausstellung
DESCRIPTION:Ausstellung vom 28.03.2024 bis zum 16.03.2025.\n\n\nDein Fleis
 chermuseum feiert in diesem Jahr seinen 40. Geburtstag! Daher gibt es in 
 Deinem Fleischermuseum eine große Jubiläums-Ausstellung.\n\nIn zwei s
 chrägen Häusern am Böblinger Marktplatz (hist. Vogtshaus/ Vorderhaus &a
 mp\; hist. Vogtsscheune/ Hinterhaus)\, auf sieben Etagen und einer Ausst
 ellungsfläche von ca. 600 Quadratmetern gibt´s für Dich viel zu sehen
 .\n\nFreu Dich auf Kunst von: Dieter Roth\, 3 Hamburger Frauen\, Moga Mo
 bo\, Thomas Putze\, Ralph Fleck\, Anna McCarthy\, Lovis Corinth\, Max Kull
 mann und viele andere Bekannten und Unbekannten sowie Kunst(Handwerk)\, sc
 harfe und stumpfe Messer\, Fotos\, Bücher\, Graphiken\, Kruscht und Schä
 tze\, Altes und Neues undundundund!\n\nBring Dich ein mit Deinen Träume
 n\, Wünschen und Weisheiten! Bring Deine und viele andere Kinder\, Dei
 ne Nachbarschaft\, Deine Freunde*innen\, Deine Familie und alle ander
 en mit! Das wird toll!\n\nWir freuen uns auf Dich!
CATEGORIES:Crossover
LOCATION:Deutsches Fleischermuseum\, Marktplatz  27\, Böblingen\, Baden-W
 ürttemberg\, 71032\, Stuttgart\, Deutschland
X-APPLE-STRUCTURED-LOCATION;VALUE=URI;X-ADDRESS=Marktplatz  27\, Böblingen
 \, Baden-Württemberg\, 71032\, Stuttgart\, Deutschland;X-APPLE-RADIUS=100
 ;X-TITLE=Deutsches Fleischermuseum:geo:0,0
END:VEVENT
BEGIN:VTIMEZONE
TZID:Europe/Berlin
X-LIC-LOCATION:Europe/Berlin
BEGIN:STANDARD
DTSTART:20241027T020000
TZOFFSETFROM:+0200
TZOFFSETTO:+0100
TZNAME:CET
END:STANDARD
END:VTIMEZONE
END:VCALENDAR