BEGIN:VCALENDAR
VERSION:2.0
PRODID:-//wp-events-plugin.com//7.2.3.1//EN
TZID:Europe/Berlin
X-WR-TIMEZONE:Europe/Berlin
BEGIN:VEVENT
UID:16031@arsmondo-online.de
DTSTART;TZID=Europe/Berlin:20260531T170000
DTEND;TZID=Europe/Berlin:20260531T170000
DTSTAMP:20251101T162728Z
URL:https://www.arsmondo-online.de/kulturtermine/der-rosenkavalier-7/
SUMMARY:Der Rosenkavalier
DESCRIPTION:Komödie für Musik in drei Aufzügen von Richard Strauss\n\n\n
 \nMusiktheater\nMarguerre-Saal\nText von Hugo von Hofmannsthal / in deutsc
 her Sprache mit Übertiteln\n\n\n\nEine Komödie hatte sich der Komponist 
 Richard Strauss von seinem Textdichter Hugo von Hofmannsthal gewünscht. Z
 ur Uraufführung 1911 in Dresden kam ein Werk\, das sprachlich wie musikal
 isch mit Verwechslung\, Gendertrouble\, Ironie und Mehrdeutigkeit Komödie
  spielt\, doch weit darüber hinaus in heiter-melancholischer Weise auf Li
 ebe\, Leben und Vergänglichkeit weist.\nDie noch gar nicht in die Jahre g
 ekommene\, verheiratete Feldmarschallin Fürstin Werdenberg spürt das Ver
 rinnen der Zeit und sucht nach dem angemessenen Umgang damit. Daraus resul
 tiert ihre Philosophie: leicht sein\, leicht nehmen und leicht lassen. Und
  während ihr Geliebter Octavian noch voller Illusionen seinen Platz im Le
 ben sucht\, und ihr Cousin\, der Baron Ochs auf Lerchenau\, sich durch ein
 e Ehe mit der viel jüngeren\, aber reichen Bürgerstochter Sophie konsoli
 dieren will\, spinnt die Marschallin auf ihre Art die Fäden zwischen den 
 dreien.\n\n\n\n
CATEGORIES:Oper und Musiktheater
LOCATION:Theater und Orchester Heidelberg\, Theaterstraße 10\, Heidelberg\
 , Baden-Württemberg\, 69117\, Rhein-Neckar\, Deutschland
X-APPLE-STRUCTURED-LOCATION;VALUE=URI;X-ADDRESS=Theaterstraße 10\, Heidelb
 erg\, Baden-Württemberg\, 69117\, Rhein-Neckar\, Deutschland;X-APPLE-RADI
 US=100;X-TITLE=Theater und Orchester Heidelberg:geo:0,0
END:VEVENT
BEGIN:VTIMEZONE
TZID:Europe/Berlin
X-LIC-LOCATION:Europe/Berlin
BEGIN:DAYLIGHT
DTSTART:20260329T030000
TZOFFSETFROM:+0100
TZOFFSETTO:+0200
TZNAME:CEST
END:DAYLIGHT
END:VTIMEZONE
END:VCALENDAR