BEGIN:VCALENDAR
VERSION:2.0
PRODID:-//wp-events-plugin.com//7.2.3.1//EN
TZID:Europe/Berlin
X-WR-TIMEZONE:Europe/Berlin
BEGIN:VEVENT
UID:17397@arsmondo-online.de
DTSTART;TZID=Europe/Berlin:20260604T170000
DTEND;TZID=Europe/Berlin:20260705T220000
DTSTAMP:20260219T160100Z
URL:https://www.arsmondo-online.de/kulturtermine/die-meistersinger-von-nue
 rnberg/
SUMMARY:Die Meistersinger von Nürnberg
DESCRIPTION:\n\n\nOper in drei Aufzügen\nMusik und Text von Richard Wagner
 \nmit deutschen Übertiteln\n\nZu Beginn seiner Beschäftigung mit den »M
 eistersingern von Nürnberg« plante Richard Wagner eine leichte Komödie\
 , quasi ein Satyrspiel. Knapp zwanzig Jahre später wurde daraus zur Münc
 hner Uraufführung eine großangelegte Oper\, deren Partitur zu den farben
 reichsten des Komponisten gehört.\n\nIm Nürnberg des 16. Jahrhunderts bi
 etet der Goldschmied Veit Pogner seine Tochter demjenigen zur Frau\, der a
 m Johannistag im traditionellen Sängerwettstreit der Meistergilde den Sie
 g erringt — Evas Zustimmung vorausgesetzt. Ein Auge hat sie bereits auf 
 den jungen Walther von Stolzing geworfen\, der als Fremder gemäß den Tra
 ditionen nicht in Frage zu kommen scheint. Während der unliebsame Sixtus 
 Beckmesser mit allen Mitteln gegen Stolzing antritt\, weiß der Meistersin
 ger Hans Sachs um seine leise Liebe zu Eva\, ihre Grenzen und um sein Alte
 r.\n\nWas Richard Wagner in den »Meistersingern von Nürnberg« zaubert\,
  ist weit weg vom heroischen Heldengestus\, den nordischen Mythen und Göt
 terränken\, die er sonst so gerne auf die Bühne brachte. Die »Meistersi
 nger« sind zutiefst menschlich\, warmherzig\, poetisch. Und sie atmen qua
 si als ›Nürnberger Sommernachtstraum‹ unter duftendem Flieder den Gei
 st William Shakespeares.\n\nPremiere\nDonnerstag\, 4. Juni 2026 (Fronleich
 nam)\, 17.00 Uhr\, Großes Haus\n\nSoirée\nSonntag\, 17. Mai 2026\, 19.00
  Uhr\, Großes Haus\n\nWorkshop Teil 1\nSamstag\, 16. Mai 2026\, 17.00 Uhr
 \, Treffpunkt Bühnenpforte\n\nWorkshop Teil 2\nSamstag\, 23. Mai 2026\, 9
 .45 Uhr\, Treffpunkt Bühnenpforte\n\nAltersfreigabe [14+]\n\nBegleitende
  Veranstaltungen\nRichard Wagner – ein satirisches Porträt\nSonntag\, 
 10. Mai\, 15.00 Uhr\, Foyer\n\nÖffentliche Bühnenprobe zu »Die Meisters
 inger von Nürnberg«\nSamstag\, 23. Mai\, 9.45 Uhr\n\n»Verachtet mir die
  Meister nicht« – eine Einführung in den ›Wagner-Kosmos‹ von und m
 it Kay Metzger\nSonntag\, 31. Mai 2026\, 15.00 Uhr\, Foyer\n\nRichard Wagn
 ers »Die Meistersinger von Nürnberg« – wirklich nur eine musikalische
  Komödie? \nEinsichten in Wagners ›komische Oper‹ von John H. Mülle
 r\nSamstag\, 6. Juni 2026\, 16.00 Uhr\, Foyer\n\n»Der Flieder war’s«. 
 Oder doch nicht?\nWagners »Meistersinger« im Spiegel ihrer Rezeption\nVo
 rtrag von Prof. Stephan Mösch\nSonntag\, 14. Juni\, 11.00 Uhr\, Foyer\n\n
 &nbsp\;\n\nWir danken zwei privaten Spendern für die großzügige Förder
 ung der Inszenierung.\n\n\n\nMit freundlicher Unterstützung der »Freunde
  &amp\; Förderer des Ulmer Theaters e.V.«\n\n\n\n\n\n\nMusikalische Leit
 ung GMD Felix Bender\nInszenierung Kay Metzger\nAusstattung Petra Molléru
 s\nKostüme Eva-Maria Weber\n
CATEGORIES:Oper und Musiktheater
LOCATION:Theater Ulm\, Hebert-von-Karajan-Platz 1\, Ulm\, Baden-Württember
 g\, 89073\, Donau-Iller\, Deutschland
X-APPLE-STRUCTURED-LOCATION;VALUE=URI;X-ADDRESS=Hebert-von-Karajan-Platz 1\
 , Ulm\, Baden-Württemberg\, 89073\, Donau-Iller\, Deutschland;X-APPLE-RAD
 IUS=100;X-TITLE=Theater Ulm:geo:0,0
END:VEVENT
BEGIN:VTIMEZONE
TZID:Europe/Berlin
X-LIC-LOCATION:Europe/Berlin
BEGIN:DAYLIGHT
DTSTART:20260329T030000
TZOFFSETFROM:+0100
TZOFFSETTO:+0200
TZNAME:CEST
END:DAYLIGHT
END:VTIMEZONE
END:VCALENDAR