BEGIN:VCALENDAR
VERSION:2.0
PRODID:-//wp-events-plugin.com//7.2.3.1//EN
TZID:Europe/Berlin
X-WR-TIMEZONE:Europe/Berlin
BEGIN:VEVENT
UID:17704@arsmondo-online.de
DTSTART;TZID=Europe/Berlin:20260719T180000
DTEND;TZID=Europe/Berlin:20260719T200000
DTSTAMP:20260307T171203Z
URL:https://www.arsmondo-online.de/kulturtermine/dorothee-oberlinger-edin-
 karamazov-bach-dialoge/
SUMMARY:Dorothee Oberlinger &amp\; Edin Karamazov - Bach: Dialoge
DESCRIPTION:Bach nur mit Flöte und Laute? Für dieses ungewöhnliche Progr
 amm hat sich die BarockSpezialistin Dorothee Oberlinger mit dem Lauteniste
 n Edin Karamazov zusammengetan. Einem größeren Publikum ist er unter and
 erem durch seine Zusammenarbeit mit dem Pop-Sänger Sting bekannt. Darübe
 r hinaus wird er als feinfühliger Interpret und kongenialer Arrangeur ges
 chätzt. Aus Mangel an Originalkompositionen aus der Feder Johann Sebastia
 n Bachs\, haben sich Oberlinger und Karamazov eine Praxis des 18. Jahrhund
 erts zu eigen gemacht\, um die Werke des Barockmeisters für ihre Instrume
 nte zu adaptieren. Aus der Reduktion auf ein Melodie und ein Generalbassin
 strument sind lebendige Dialoge geworden\, die ganz neue Facetten von Bach
 s Musik hörbar machen. In diesen zarten Gebilden\, luftig und transparent
 \, steckt eine wunderbare Ausdruckskraft\, die den Hörer unmittelbar ergr
 eift. Flöte wie Laute entfalten eine schier atemberaubende Virtuosität\,
  bleiben dabei der tiefen Empfindung der Musik aber nichts schuldig und m
 üssen auch vor dem Vergleich mit dem Bach’schen Original nicht zurücks
 chrecken.\n\nBild: Johannes Ritter
ATTACH;FMTTYPE=image/jpeg:https://www.arsmondo-online.de/wp-content/upload
 s/2026/03/OberlingerKaramazov_c_Johannes-Ritter_komprimiert.jpg
CATEGORIES:Konzert
LOCATION:Klosterkirche\, Klosterhof\, Maulbronn\, Baden-Württemberg\, 7543
 3\, Enzkreis\, Deutschland
X-APPLE-STRUCTURED-LOCATION;VALUE=URI;X-ADDRESS=Klosterhof\, Maulbronn\, Ba
 den-Württemberg\, 75433\, Enzkreis\, Deutschland;X-APPLE-RADIUS=100;X-TIT
 LE=Klosterkirche:geo:0,0
END:VEVENT
BEGIN:VTIMEZONE
TZID:Europe/Berlin
X-LIC-LOCATION:Europe/Berlin
BEGIN:DAYLIGHT
DTSTART:20260329T030000
TZOFFSETFROM:+0100
TZOFFSETTO:+0200
TZNAME:CEST
END:DAYLIGHT
END:VTIMEZONE
END:VCALENDAR