BEGIN:VCALENDAR
VERSION:2.0
PRODID:-//wp-events-plugin.com//7.2.3.1//EN
TZID:Europe/Berlin
X-WR-TIMEZONE:Europe/Berlin
BEGIN:VEVENT
UID:18251@arsmondo-online.de
DTSTART;TZID=Europe/Berlin:20261018T170000
DTEND;TZID=Europe/Berlin:20261018T190000
DTSTAMP:20260420T144154Z
URL:https://www.arsmondo-online.de/kulturtermine/dreiklang-2025-2026-the-m
 agic-of-birdsong-floete-klavier/
SUMMARY:Dreiklang 2025/2026: "The magic of birdsong" - Flöte &amp\; Klavie
 r
DESCRIPTION:„The magic of birdsong“\n\n Gesprächskonzert für Flöte 
 und Klavier\n\n \n\nProf. Dr. Eckart Altenmüller\, Flöte // Birgit Seid
 el\, Klavier\n\n&nbsp\;\n\nWerke von Vivaldi\, Messiaen\, Strawinsky\, Sch
 umann\, Shulamit Ran und Janacek\n\nIn diesem Gesprächskonzert werden Sie
  durch die faszinierende Welt der Vogel-Kompositionen geführt. Es wird da
 bei die Vielschichtigkeit der Werke\, ihre Ästhetik und Symbolik beleucht
 en. Lassen Sie sich von der Magie der Vögel bezaubern.\n\n&nbsp\;\n\nFoto
  u. Bildrecht: Eckart Altenmüller
ATTACH;FMTTYPE=image/jpeg:https://www.arsmondo-online.de/wp-content/upload
 s/2026/04/26_10_18-Birdsong-Foto-und-Bildrecht-Eckart-Altenmueller.jpg
CATEGORIES:Konzert
LOCATION:Sonnensaal\, Neutorstraße 6\, Rottweil\, Baden-Württemberg\, 786
 28\, Deutschland
X-APPLE-STRUCTURED-LOCATION;VALUE=URI;X-ADDRESS=Neutorstraße 6\, Rottweil\
 , Baden-Württemberg\, 78628\, Deutschland;X-APPLE-RADIUS=100;X-TITLE=Sonn
 ensaal:geo:0,0
END:VEVENT
BEGIN:VTIMEZONE
TZID:Europe/Berlin
X-LIC-LOCATION:Europe/Berlin
BEGIN:DAYLIGHT
DTSTART:20260329T030000
TZOFFSETFROM:+0100
TZOFFSETTO:+0200
TZNAME:CEST
END:DAYLIGHT
END:VTIMEZONE
END:VCALENDAR