BEGIN:VCALENDAR
VERSION:2.0
PRODID:-//wp-events-plugin.com//7.2.3.1//EN
TZID:Europe/Berlin
X-WR-TIMEZONE:Europe/Berlin
BEGIN:VEVENT
UID:18252@arsmondo-online.de
DTSTART;TZID=Europe/Berlin:20261108T170000
DTEND;TZID=Europe/Berlin:20261108T190000
DTSTAMP:20260420T144201Z
URL:https://www.arsmondo-online.de/kulturtermine/dreiklang-2025-2026-trio-
 amane-contrasts-von-mozart-bis-filmmusik/
SUMMARY:Dreiklang 2025/2026: Trio AMANE - "Contrasts - von Mozart bis Filmm
 usik"
DESCRIPTION:Trio AMANE „Contrasts – von Mozart bis Filmmusik“\n\nJuli
 a Guhl\, Klarinette // Izumi Fujii\, Cello // Katalin Rozgonyi\, Klavier\n
 \nWerke von Rota\, Hurlstone\, Mozart\n\nDas Kegelstatt-Trio von Wolfgang 
 Amadeus Mozart kann unbestritten als „Hit“ der Wiener Klassik bezeich
 net werden. Das Trio AMANE kombiniert dieses Glanzstück in einem spannung
 sreichen Bogen mit unbekannten Perlen der Kammermusikliteratur: das Publik
 um begegnet russisch- folkloristischen Klängen der Jahrhundertwende und w
 ird ebenso ins hochromantische England führt. Die Reise endet schlussendl
 ich in Italien mit dem fetzigen Trio des Filmmusik-Komponisten Nino Rota. 
 Dieses Werk gilt als absoluter Publikumsliebling.\n\n&nbsp\;\n\nKonzertein
 führung: 16:15 Uhr im Refektorium des Kapuziners\n\n&nbsp\;\n\nFoto Trio 
 AMANE\, Bildnachweis Julia Guhl
ATTACH;FMTTYPE=image/jpeg:https://www.arsmondo-online.de/wp-content/upload
 s/2026/04/26_11_08-Trio-AMANE_Bildnachweis-Julia-Guhl_500x441.jpg
CATEGORIES:Konzert
LOCATION:Sonnensaal\, Neutorstraße 6\, Rottweil\, Baden-Württemberg\, 786
 28\, Schwarzwald-Baar-Heuberg\, Deutschland
X-APPLE-STRUCTURED-LOCATION;VALUE=URI;X-ADDRESS=Neutorstraße 6\, Rottweil\
 , Baden-Württemberg\, 78628\, Schwarzwald-Baar-Heuberg\, Deutschland;X-AP
 PLE-RADIUS=100;X-TITLE=Sonnensaal:geo:0,0
END:VEVENT
BEGIN:VTIMEZONE
TZID:Europe/Berlin
X-LIC-LOCATION:Europe/Berlin
BEGIN:STANDARD
DTSTART:20261025T020000
TZOFFSETFROM:+0200
TZOFFSETTO:+0100
TZNAME:CET
END:STANDARD
END:VTIMEZONE
END:VCALENDAR