BEGIN:VCALENDAR
VERSION:2.0
PRODID:-//wp-events-plugin.com//7.2.3.1//EN
TZID:Europe/Berlin
X-WR-TIMEZONE:Europe/Berlin
BEGIN:VEVENT
UID:15671@arsmondo-online.de
DTSTART;TZID=Europe/Berlin:20260607T170000
DTEND;TZID=Europe/Berlin:20260607T190000
DTSTAMP:20251019T222938Z
URL:https://www.arsmondo-online.de/kulturtermine/ein-abend-mit-harald-schm
 itz-und-volker-heissmann/
SUMMARY:Ein Abend mit Harald Schmitz und Volker Heißmann
DESCRIPTION: begleitet vom Thilo Wolf Jazz Quartett \n\nWas passiert\, wenn
  Dirty Harry auf Mariechen trifft? Die Antwort gibt es in »Ein Abend mit 
 Harald Schmidt und Volker Heißmann«\, einer pointenreichen Show der Extr
 aklasse. Aus einer Zufallsbegegnung erwuchs eine ungewöhnliche Freundscha
 ft\, die nun in dieser einzigartigen Show kulminiert. Die TV-Legende und d
 er Kult-Komödiant schöpfen aus ihrem reichen Erfahrungsschatz aus Bühne
 n- und Fernsehlaufbahn und präsentieren dem Publikum einen Abend voller s
 kurriler Begegnungen\, tiefsinniger Gedanken und gnadenlos komischer Gesch
 ichten – ein regelrechtes Feuerwerk der Pointen\, das kaum Luft zum Atme
 n lässt.\n\nWas zunächst nur als einmaliges Projekt gedacht war\, begeis
 terte die Gäste in der Comödie Fürth derart\, dass schnell klar war: Di
 ese schwäbisch-fränkische Fusion passt perfekt zusammen und muss unbedin
 gt weitergehen!\n\nDas Thilo Wolf Jazz Quartett sorgt dabei für die musik
 alische Untermalung\, die dem Spektakel die besondere Note verleiht. Die K
 ombination aus pointierten Anekdoten\, fein abgestimmter Musik und dem unn
 achahmlichen Humor der beiden Hauptakteure macht diese Late-Night-Show zu 
 einem ikonischen Ereignis\, welches das Publikum nie vergessen wird.\n\n&n
 bsp\;\n\nFoto: Werner Sonst
ATTACH;FMTTYPE=image/jpeg:https://www.arsmondo-online.de/wp-content/upload
 s/2025/10/Harald-Schmidt-u-Volker-Heissmann.jpg
CATEGORIES:Crossover
LOCATION:Theater Heilbronn\, Berliner Platz 1\, 74072 Heilbronn\, Deutschla
 nd
X-APPLE-STRUCTURED-LOCATION;VALUE=URI;X-ADDRESS=Berliner Platz 1\, 74072 He
 ilbronn\, Deutschland;X-APPLE-RADIUS=100;X-TITLE=Theater Heilbronn:geo:0,0
END:VEVENT
BEGIN:VTIMEZONE
TZID:Europe/Berlin
X-LIC-LOCATION:Europe/Berlin
BEGIN:DAYLIGHT
DTSTART:20260329T030000
TZOFFSETFROM:+0100
TZOFFSETTO:+0200
TZNAME:CEST
END:DAYLIGHT
END:VTIMEZONE
END:VCALENDAR