BEGIN:VCALENDAR
VERSION:2.0
PRODID:-//wp-events-plugin.com//7.2.3.1//EN
TZID:Europe/Berlin
X-WR-TIMEZONE:Europe/Berlin
BEGIN:VEVENT
UID:16458@arsmondo-online.de
DTSTART;TZID=Europe/Berlin:20260622T100000
DTEND;TZID=Europe/Berlin:20260622T170000
DTSTAMP:20251106T232812Z
URL:https://www.arsmondo-online.de/kulturtermine/ende-der-zeitzeugenschaft
 -2026-06-22/
SUMMARY:Ende der Zeitzeugenschaft?
DESCRIPTION:27. Januar – 14. September 2026\n\nEnde der Zeitzeugenschaft?
 \n\nDie letzten Überlebenden des Holocaust und der Shoa werden ihre Erleb
 nisse und Erfahrungen nur noch für begrenzte Zeit in persönlichen Begegn
 ungen vermitteln können. Was bleibt\, sind ihre Erinnerungen in Büchern\
 , historischen Filmdokumentationen\, Ausstellungen und Bildungsprojekten. 
 Hinzu kommen immer neue Medien: Comics\, Social Media-Formate\, Hologramme
 …\n\nDie Ausstellung nimmt unterschiedliche Aspekte von Zeitzeug*innensc
 haft in den Blick: Wie entsteht aus persönlichen Erinnerungen eine Erzäh
 lung und was beeinflusst sie? Wie kommen Interviews und andere Zeugnisse e
 igentlich zustande? Was hat sich im Umgang mit ihnen seit 1945 verändert?
  Und wie gehen Museen und Gedenkstätten heute und in Zukunft damit um?\n\
 nFür die Ausstellung in Freiburg wurden Ausschnitte aus Interviews mit ü
 berlebenden Freiburger*innen ergänzt. In der Museen Freiburg App gibt es 
 außerdem eine begleitende Themen-Tour durch die Dauerausstellung des DZNS
 .\n\n&nbsp\;\n\nBild: Ende der Zeitzeugenschaft\, Anika Reichwald\, Jüdis
 ches Museum Hohenems\, 2019
ATTACH;FMTTYPE=image/jpeg:https://www.arsmondo-online.de/wp-content/upload
 s/2025/10/DZNS_Ende-der-Zeitzeugenschaft_Anika-Reichwald_Juedisches-Museum
 -Hohenems_2019_klein.jpg
CATEGORIES:Crossover
LOCATION:Dokumentationszentrum Nationalsozialismus\, Rotteckring 14\, Freib
 urg im Breisgau\, Baden-Württemberg\, 79098\, Deutschland
X-APPLE-STRUCTURED-LOCATION;VALUE=URI;X-ADDRESS=Rotteckring 14\, Freiburg i
 m Breisgau\, Baden-Württemberg\, 79098\, Deutschland;X-APPLE-RADIUS=100;X
 -TITLE=Dokumentationszentrum Nationalsozialismus:geo:0,0
END:VEVENT
BEGIN:VTIMEZONE
TZID:Europe/Berlin
X-LIC-LOCATION:Europe/Berlin
BEGIN:DAYLIGHT
DTSTART:20260329T030000
TZOFFSETFROM:+0100
TZOFFSETTO:+0200
TZNAME:CEST
END:DAYLIGHT
END:VTIMEZONE
END:VCALENDAR