BEGIN:VCALENDAR
VERSION:2.0
PRODID:-//wp-events-plugin.com//7.2.3.1//EN
TZID:Europe/Berlin
X-WR-TIMEZONE:Europe/Berlin
BEGIN:VEVENT
UID:16609@arsmondo-online.de
DTSTART;TZID=Europe/Berlin:20260605T200000
DTEND;TZID=Europe/Berlin:20260605T211500
DTSTAMP:20251126T131434Z
URL:https://www.arsmondo-online.de/kulturtermine/euridice-orpheus-aus-der-
 weiblichen-perspektive/
SUMMARY:Euridice - Orpheus aus der weiblichen Perspektive
DESCRIPTION:Wie oft hat Orpheus uns schon mit seiner übersinnlichen Stimme
  verzaubert. Nicht aber Orpheus\, sondern Euridice – seine große Liebe\
 , seine Muse und sein größter Verlust – steht im Mittelpunkt dieses au
 ßergewöhnlichen Konzertabends. Der berühmte Orfeo-Mythos wird neu erzä
 hlt – aus der Sicht der Frau\, deren Stimme in der Musik so oft ungehör
 t blieb.\n\nMit ausdrucksstarker Musik von Peri\, Caccini und Strozzi entf
 altet sich eine selten gehörte Perspektive voller Emotion\, Dramatik und 
 musikalischer Tiefe. Ein Abend\, der die Figur Euridice neu ins Licht stel
 lt – sinnlich\, klangvoll und überraschend weiblich.\n\nKonzert ohne Pa
 use\, Dauer 70 Minuten\n \nProgramm\nMusik von Jacopo Peri\, Giulio Cacci
 ni\, Barbara Strozzi\, Biaggio Marini und Claudio Monteverdi\n\nJiayu Jin 
 | Sopran\n\nil Gusto Barocco\nJörg Halubek | Cembalo und musikalische L
 eitung\n \nInfos unter: https://www.ilgustobarocco.de/event/euridice/\nT
 ickets unter: https://il-gusto-barocco.reservix.de/p/reservix/event/24453
 68\nBild: ©You Qi\n
ATTACH;FMTTYPE=image/jpeg:https://www.arsmondo-online.de/wp-content/upload
 s/2025/11/Jiayu-Jin-©-You-Qi-700x700-1.jpg
CATEGORIES:Konzert
LOCATION:Liederhalle Stuttgart\, Mozartsaal\, Berliner Platz 1-3\, Stuttgar
 t\, Baden-Württemberg\, 70174\, Stuttgart\, Deutschland
X-APPLE-STRUCTURED-LOCATION;VALUE=URI;X-ADDRESS=Berliner Platz 1-3\, Stuttg
 art\, Baden-Württemberg\, 70174\, Stuttgart\, Deutschland;X-APPLE-RADIUS=
 100;X-TITLE=Liederhalle Stuttgart\, Mozartsaal:geo:0,0
END:VEVENT
BEGIN:VTIMEZONE
TZID:Europe/Berlin
X-LIC-LOCATION:Europe/Berlin
BEGIN:DAYLIGHT
DTSTART:20260329T030000
TZOFFSETFROM:+0100
TZOFFSETTO:+0200
TZNAME:CEST
END:DAYLIGHT
END:VTIMEZONE
END:VCALENDAR