BEGIN:VCALENDAR
VERSION:2.0
PRODID:-//wp-events-plugin.com//7.2.3.1//EN
TZID:Europe/Berlin
X-WR-TIMEZONE:Europe/Berlin
BEGIN:VEVENT
UID:17732@arsmondo-online.de
DTSTART;TZID=Europe/Berlin:20260426T180000
DTEND;TZID=Europe/Berlin:20260628T203000
DTSTAMP:20260307T170553Z
URL:https://www.arsmondo-online.de/kulturtermine/europa/
SUMMARY:Europa
DESCRIPTION:Deutschland 1945. Der junge Leopold Kessler kommt aus den USA n
 ach Europa und tritt eine Stelle beim Bahnunternehmen Zentropa an. Ein gan
 zes Land tut so\, als wären die letzten zwölf Jahre nicht passiert. Egal
 \, wohin Leopold aus dem Zug schaut: Alle versuchen\, den Blick auf die Wa
 hrheiten von Krieg\, Zerstörung und Shoah zu verstellen. Jalousie herunte
 r\, bitte schauen Sie weg! Auch Leopolds Liebe zu Kat\, der Tochter des Ze
 ntropa- Besitzers\, ist überschattet von ihrer Verbindung zum nationalsoz
 ialistischen Terror. Inmitten eines im großen Stil inszenierten Versöhnu
 ngstheaters verirrt sich Leopold immer mehr im Herzen der Finsternis.\nLar
 s von Trier hat mit Europa eines der treffendsten Porträts über den frag
 würdigen Umgang mit der NS-Vergangenheit Deutschlands geschaffen. Gebannt
  folgen wir seiner Hauptfigur Leopold immer tiefer ins dunkelste Kapitel e
 uropäischer Geschichte. Der niederländische Regisseur Mart van Berckel n
 immt uns an diesem Abend mit orchestralem Repertoire von spätromantischen
  Komponisten bis hin zu Werken der Nachkriegsavantgarde auf einen Trip in 
 die Psyche des Zivilisationsbruchs.\nEine musikdramatische Selbstbetrachtu
 ng mit Europa von Lars von Trier und Niels Vørsel und Musik von Richard
  Wagner\, Gustav Mahler\, Richard Strauss\, György Ligeti u.v.m. Einführ
 ung 30 Minuten vor Vorstellungsbeginn. Deutsch von Ulrike Syha
CATEGORIES:Oper und Musiktheater
LOCATION:Theater Freiburg Großes Haus\, Bertoldstr. 46\, Freiburg\, Baden-
 Württemberg\, 79098\, Südlicher Oberrhein\, Deutschland
X-APPLE-STRUCTURED-LOCATION;VALUE=URI;X-ADDRESS=Bertoldstr. 46\, Freiburg\,
  Baden-Württemberg\, 79098\, Südlicher Oberrhein\, Deutschland;X-APPLE-R
 ADIUS=100;X-TITLE=Theater Freiburg Großes Haus:geo:0,0
END:VEVENT
BEGIN:VTIMEZONE
TZID:Europe/Berlin
X-LIC-LOCATION:Europe/Berlin
BEGIN:DAYLIGHT
DTSTART:20260329T030000
TZOFFSETFROM:+0100
TZOFFSETTO:+0200
TZNAME:CEST
END:DAYLIGHT
END:VTIMEZONE
END:VCALENDAR