BEGIN:VCALENDAR
VERSION:2.0
PRODID:-//wp-events-plugin.com//7.2.3.1//EN
TZID:Europe/Berlin
X-WR-TIMEZONE:Europe/Berlin
BEGIN:VEVENT
UID:17540@arsmondo-online.de
DTSTART;TZID=Europe/Berlin:20260623T193000
DTEND;TZID=Europe/Berlin:20260623T220000
DTSTAMP:20260225T190913Z
URL:https://www.arsmondo-online.de/kulturtermine/ewig-jung-7/
SUMMARY:Ewig Jung
DESCRIPTION: Ein Songdrama von Erik Gedeon \n\n&nbsp\;\n\nDas Theater ist s
 chon seit Langem geschlossen und dient nur noch einer Gruppe hochbetagter 
 Schauspieler als regelmäßiger Treffpunkt. Wenn sie in ihren besten Kleid
 ern auf der Bühne zusammensitzen\, schwelgen sie in Erinnerungen und durc
 hleben noch einmal ihre Erfolge. Zuweilen scheint die eine oder der andere
  mit den Bühnenhelden\, die sie einst verkörpern durften\, zu verschmelz
 en. Und Liebe\, Romantik\, Übermut und Lebenslust verschwinden auch nicht
 \, wenn die Knochen schmerzen oder das Haar schütter wird. Wenn nur die s
 trenge Altenpflegerin nicht wäre. Sie erinnert ihre Schützlinge nur allz
 u gern an deren Gebrechlichkeit und versucht\, ihnen mit Vorträgen über 
 Krankheit und Tod die Stimmung zu versauen. Obendrein will sie mit kindisc
 hen Übungen die geistige Aktivität ihrer Senioren in Schwung bringen.\n\
 nDoch kaum dreht dieser Drachen in Frauengestalt den Alten den Rücken\, l
 assen sie es krachen. Da wird geflirtet\, getanzt und vor allem gesungen. 
 Mit Songs von »I Love Rock’n Roll«\, »I Will Survive«\, »Barbie Gir
 l«\, »Sex Bomb« oder »Born to Be Wild« springen sie mitten hinein in 
 den musikalischen Jungbrunnen und toben sich aus\, bis ihr altes Theater f
 ast abhebt. Große Gefühle und Freude am Leben sind eben keine Frage der 
 Jahreszahlen\, und jung bleiben kann man auch\, wenn man alt wird.\n\nInsp
 iriert von dem unglaublichen Erfolg des Buena Vista Social Clubs\, jener l
 egendären kubanischen Musiker jenseits der 80\, die mit ihrer Spielfreude
  und ihrem Spaß an der Musik die Welt erobert haben\, hat Erik Gedeon die
 sen musikalischen Abend für Schauspieler kreiert. Seit seiner Uraufführu
 ng 2001 im Thalia Theater Hamburg\, damals unter dem Titel »Thalia Vista 
 Social Club«\, läuft er dort mit großem Erfolg und genießt inzwischen 
 Kultstatus. 2007 kam der Abend unter dem Titel »Ewig jung« am Staatsscha
 uspiel Dresden heraus und erfreut sich seitdem großer Beliebtheit auf den
  nationalen Bühnen. Das Erfolgsrezept besteht in der Verbindung von legen
 dären Pop- und Rockklassikern\, Schauspiel\, schwarzem Humor und einem Ha
 uch Melancholie. Erleben Sie eine Oldie-Party der anderen Art: Das Ensembl
 e des Heilbronner Theaters\, optisch um Jahrzehnte gealtert\, startet mit 
 diesem Feuerwerk aus bekannten Ohrwürmern einen Angriff auf Ihre Lachmusk
 eln.\n\n&nbsp\;\n\nFoto: Jochen Klenk
ATTACH;FMTTYPE=image/jpeg:https://www.arsmondo-online.de/wp-content/upload
 s/2026/02/Ewig-Jung.jpg
CATEGORIES:Oper und Musiktheater
LOCATION:Theater Heilbronn\, Großes Haus\, Berliner Platz 1\, Heilbronn\, 
 Baden-Württemberg\, 74072 \, Heilbronn-Franken\, Deutschland
X-APPLE-STRUCTURED-LOCATION;VALUE=URI;X-ADDRESS=Berliner Platz 1\, Heilbron
 n\, Baden-Württemberg\, 74072 \, Heilbronn-Franken\, Deutschland;X-APPLE-
 RADIUS=100;X-TITLE=Theater Heilbronn\, Großes Haus:geo:0,0
END:VEVENT
BEGIN:VTIMEZONE
TZID:Europe/Berlin
X-LIC-LOCATION:Europe/Berlin
BEGIN:DAYLIGHT
DTSTART:20260329T030000
TZOFFSETFROM:+0100
TZOFFSETTO:+0200
TZNAME:CEST
END:DAYLIGHT
END:VTIMEZONE
END:VCALENDAR