BEGIN:VCALENDAR
VERSION:2.0
PRODID:-//wp-events-plugin.com//7.2.3.1//EN
TZID:Europe/Berlin
X-WR-TIMEZONE:Europe/Berlin
BEGIN:VEVENT
UID:16944@arsmondo-online.de
DTSTART;TZID=Europe/Berlin:20260722T190000
DTEND;TZID=Europe/Berlin:20260722T190000
DTSTAMP:20251215T212236Z
URL:https://www.arsmondo-online.de/kulturtermine/exklusives-u26-konzert-mi
 t-dem-swr-symphonieorchester-3/
SUMMARY:Exklusives U26-Konzert mit dem SWR Symphonieorchester
DESCRIPTION:Orchesterkonzert mit François-Xavier Roth und dem SWR Symphoni
 eorchester. Sie musizieren die 8. Sinfonie von Anton Bruckner.\n\n&nbsp\;\
 n\nProgramm:\n\nAnton Bruckner: Sinfonie Nr. 8 c-Moll\n\n&nbsp\;\n\nMitwir
 kende:\n\nSWR Symphonieorchester\nFrançois-Xavier Roth\, Dirigent\n\n&nbs
 p\;\n\n18:00 Uhr Konzerteinführung\n\n&nbsp\;\n\nFreier Eintritt exklusiv
  für Schüler:innen\, Studierende\, Azubis\, FSJler:innen\, Sozial Benach
 teiligte u. a.\n\n&nbsp\;\n\nFoto: François-Xavier Roth © Wolf-Peter Ste
 inheisser
ATTACH;FMTTYPE=image/jpeg:https://www.arsmondo-online.de/wp-content/upload
 s/2025/12/26-07-22-Francois-Xavier-Roth-C-Wolf-Peter-Steinheisser_700.jpg
CATEGORIES:Konzert
LOCATION:Liederhalle\, Berliner Platz 1\, Stuttgart\, 70174\, Deutschland
X-APPLE-STRUCTURED-LOCATION;VALUE=URI;X-ADDRESS=Berliner Platz 1\, Stuttgar
 t\, 70174\, Deutschland;X-APPLE-RADIUS=100;X-TITLE=Liederhalle:geo:0,0
END:VEVENT
BEGIN:VTIMEZONE
TZID:Europe/Berlin
X-LIC-LOCATION:Europe/Berlin
BEGIN:DAYLIGHT
DTSTART:20260329T030000
TZOFFSETFROM:+0100
TZOFFSETTO:+0200
TZNAME:CEST
END:DAYLIGHT
END:VTIMEZONE
END:VCALENDAR