BEGIN:VCALENDAR
VERSION:2.0
PRODID:-//wp-events-plugin.com//7.2.3.1//EN
TZID:Europe/Berlin
X-WR-TIMEZONE:Europe/Berlin
BEGIN:VEVENT
UID:18205@arsmondo-online.de
DTSTART;TZID=Europe/Berlin:20260630T200000
DTEND;TZID=Europe/Berlin:20260630T220000
DTSTAMP:20260413T143120Z
URL:https://www.arsmondo-online.de/kulturtermine/fagottissimo-rottweil-mus
 ikfestival-sommersprossen/
SUMMARY:FAGOTTISSIMO - Rottweil Musikfestival Sommersprossen
DESCRIPTION:FAGOTTISSIMO\n\nPräludium der Städtischen Musikschule: Klarin
 ette\, Klasse Marion Schmidt\n\nProgramm\n\nEdvard Grieg (1843-1907) - Hol
 berg Suite\, op. 40 für Fagottsextett (Arr. Kristian Oma R¯nnes)\n\nEnni
 o Morricone (1928-2020) - Totem secondo für 5 Fagotte und 2 Kontrafagotte
 \n\nJakob Fliedl (*1988) - „Sonata for Four“ für Fagottquartett\n\nJo
 seph Bodin de Boismortier (1689-1755) - Concerto à Cinque (Arr. für Fago
 ttquintett)\n\nIgor Stravinsky (1882-1971) - Pulcinella für Fagottquintet
 t (Arr. Enrico Bassi)\n\nMitwirkende:\nTheo Plath - Fagott\nDag Jensen - F
 agott\nAmy Harman - Fagott\nElias Schneider - Fagott\nDaniel Mohrmann - Fa
 gott\nMalte Refardt - Fagott / Kontrafagott\nAljoscha Donderer - Kontrafag
 ott
ATTACH;FMTTYPE=image/jpeg:https://www.arsmondo-online.de/wp-content/upload
 s/2026/04/sospro_Logo_quadrat_700x700-5.jpg
CATEGORIES:Konzert
LOCATION:Kunststiftung Erich Hauser\, Saline 36\, Rottweil\, Baden-Württem
 berg\, 78628 \, Schwarzwald-Baar-Heuberg\, Deutschland
X-APPLE-STRUCTURED-LOCATION;VALUE=URI;X-ADDRESS=Saline 36\, Rottweil\, Bade
 n-Württemberg\, 78628 \, Schwarzwald-Baar-Heuberg\, Deutschland;X-APPLE-R
 ADIUS=100;X-TITLE=Kunststiftung Erich Hauser:geo:0,0
END:VEVENT
BEGIN:VTIMEZONE
TZID:Europe/Berlin
X-LIC-LOCATION:Europe/Berlin
BEGIN:DAYLIGHT
DTSTART:20260329T030000
TZOFFSETFROM:+0100
TZOFFSETTO:+0200
TZNAME:CEST
END:DAYLIGHT
END:VTIMEZONE
END:VCALENDAR