BEGIN:VCALENDAR
VERSION:2.0
PRODID:-//wp-events-plugin.com//7.2.3.1//EN
TZID:Europe/Berlin
X-WR-TIMEZONE:Europe/Berlin
BEGIN:VEVENT
UID:18253@arsmondo-online.de
DTSTART;TZID=Europe/Berlin:20260423T193000
DTEND;TZID=Europe/Berlin:20260423T193000
DTSTAMP:20260420T125511Z
URL:https://www.arsmondo-online.de/kulturtermine/festival-stuttgart-barock
 -2026/
SUMMARY:Festival Stuttgart Barock 2026
DESCRIPTION:Thema „Magisches Florenz“. Eröffnungskonzert: Luigi Bocche
 rini - Stabat Mater Jan Dismas Zelenka - Missa Sanctissimae Trinitatis. Ka
 mmerchor Stuttgart\, Barockorchester Stuttgart\, Solisten\, Leitung: Fried
 er Bernius\n\n23. April 2026\, 19.30 Uhr in der Leonhardskirche\, Stuttgar
 t\nVeranstalter: Musik Podium Stuttgart e.V.\nWeitere Informationen zum Fe
 stival\, Karten: musikpodium.de\, Online: www.reservix.de\, Karten erhalte
 n Sie auch an der Abendkasse.\n\nFoto: Stuttgarter Kammerchor (c) Timo Kab
 el
ATTACH;FMTTYPE=image/jpeg:https://www.arsmondo-online.de/wp-content/upload
 s/2026/04/Kammerchor-Stuttgart_Foto-Timo-Kabel_web.jpg
CATEGORIES:Konzert
LOCATION:Leonhardskirche Stuttgart\, Leonhardsplatz 10/1\, Stuttgart\, Bade
 n-Württemberg\, 70182 \, Stuttgart\, Deutschland
X-APPLE-STRUCTURED-LOCATION;VALUE=URI;X-ADDRESS=Leonhardsplatz 10/1\, Stutt
 gart\, Baden-Württemberg\, 70182 \, Stuttgart\, Deutschland;X-APPLE-RADIU
 S=100;X-TITLE=Leonhardskirche Stuttgart:geo:0,0
END:VEVENT
BEGIN:VTIMEZONE
TZID:Europe/Berlin
X-LIC-LOCATION:Europe/Berlin
BEGIN:DAYLIGHT
DTSTART:20260329T030000
TZOFFSETFROM:+0100
TZOFFSETTO:+0200
TZNAME:CEST
END:DAYLIGHT
END:VTIMEZONE
END:VCALENDAR