BEGIN:VCALENDAR
VERSION:2.0
PRODID:-//wp-events-plugin.com//7.2.3.1//EN
TZID:Europe/Berlin
X-WR-TIMEZONE:Europe/Berlin
BEGIN:VEVENT
UID:15538@arsmondo-online.de
DTSTART;TZID=Europe/Berlin:20260531T160000
DTEND;TZID=Europe/Berlin:20260531T170000
DTSTAMP:20251019T222907Z
URL:https://www.arsmondo-online.de/kulturtermine/findus-und-der-hahn-im-ko
 rb-2/
SUMMARY:Findus und der Hahn im Korb
DESCRIPTION: von Sven Nordqvist\nBühnenfassung von Nicole Buhr\, Christine
  Härter und Lukas Schneider \n\n\nPettersson lebt gemeinsam mit seiner Ka
 tze Findus und den verrückten Hühnern auf seinem gemütlichen Hof. Manch
 mal ärgert Findus die Hühner und sie haben viel Spaß miteinander.\nDoch
  eines Tages wird alles anders. Pettersson hat den Hahn Caruso vor Gustavs
 sons Suppentopf gerettet und ihn mit nach Hause gebracht. »Pass mal auf\,
  wie sich die Hühner freuen«\, frohlockt er. Und tatsächlich sind die H
 ühner ganz närrisch vor Begeisterung und schenken Findus gar keine Beach
 tung mehr. Findus findet den Gockel einfach affig\, wie er so herumstolzie
 rt und sich von den tüdeligen Hühnern bewundern lässt. Nichts macht meh
 r Spaß\, seit Caruso auf den Hof gekommen ist. Immer\, wenn die Katze mit
  den Hühnern spielen will\, wird sie vom Hahn vertrieben. Damit nicht gen
 ug\, kräht Caruso fast ohne Unterlass und so laut\, dass der Holzstapel z
 usammenfällt.\nFindus fühlt sich vernachlässigt und ausgeschlossen: »W
 arum darf Caruso ständig so laut sein und ich nicht?« Pettersson antwort
 et: »Ein Hahn muss krähen«\, obwohl er den Lärm selbst kaum aushält. 
 Findus ist entschlossen\, etwas gegen den Hahn zu unternehmen\, und heckt 
 einen Plan aus\, wie Caruso das Krähen abgewöhnt werden kann.\n\n»Findu
 s und der Hahn im Korb« ist ein weiteres herzerwärmendes Abenteuer aus d
 er Reihe um Pettersson und Findus\, die in der BOXX als Schauspiel mit Fig
 urentheater fortgesetzt wird. Diese charmante Geschichte thematisiert auf 
 humorvolle Weise Gefühle wie Eifersucht und das Bedürfnis nach Anerkennu
 ng und Freundschaft.\n\n\n&nbsp\;
CATEGORIES:Theater
LOCATION:Theater Heilbronn\, BOXX\, Berliner Platz 1\, Heilbronn\, Baden-W
 ürttemberg\, 74072 \, Heilbronn-Franken\, Deutschland
X-APPLE-STRUCTURED-LOCATION;VALUE=URI;X-ADDRESS=Berliner Platz 1\, Heilbron
 n\, Baden-Württemberg\, 74072 \, Heilbronn-Franken\, Deutschland;X-APPLE-
 RADIUS=100;X-TITLE=Theater Heilbronn\, BOXX:geo:0,0
END:VEVENT
BEGIN:VTIMEZONE
TZID:Europe/Berlin
X-LIC-LOCATION:Europe/Berlin
BEGIN:DAYLIGHT
DTSTART:20260329T030000
TZOFFSETFROM:+0100
TZOFFSETTO:+0200
TZNAME:CEST
END:DAYLIGHT
END:VTIMEZONE
END:VCALENDAR