BEGIN:VCALENDAR
VERSION:2.0
PRODID:-//wp-events-plugin.com//7.2.3.1//EN
TZID:Europe/Berlin
X-WR-TIMEZONE:Europe/Berlin
BEGIN:VEVENT
UID:12198@arsmondo-online.de
DTSTART;TZID=Europe/Berlin:20260423T190000
DTEND;TZID=Europe/Berlin:20260423T223000
DTSTAMP:20250611T205137Z
URL:https://www.arsmondo-online.de/kulturtermine/freiburger-barockorcheste
 r-il-giustino/
SUMMARY:Freiburger Barockorchester: Il Giustino
DESCRIPTION:Mehr als 100 Opern verfasste Antonio Vivaldi laut eigenen Angab
 en im Verlauf seiner Komponistenkarriere – allerdings nicht alle von gle
 icher Qualität. Eine der hervorragendsten Opern aus der Feder des „rote
 n Priesters“ ist Il Giustino\, die 1724 in Rom aufgeführt wurde und ein
 e Vielzahl an herrlichen Arien verschiedenster Gattungen enthält. Auch da
 s Orchester ist farbenreich besetzt – eben ganz typisch Vivaldi.\n\nDie 
 Besonderheit der Uraufführung war\, dass Vivaldi die Oper ausschließlich
  mit Männern besetzte\, beispielsweise mit dem umbrischen Kastraten Giaci
 nto Fontana\, der aufgrund seiner zarten Erscheinung auch „il farfallino
 “ (kleiner Schmetterling) genannt wurde.\n\nBereits 2022 konnte René Ja
 cobs Vivaldis Meisteroper erfolgreich an der Berliner Staatsoper Unter den
  Linden aufführen und geht nun mit dem FBO an Bord auf Europa-Tour. Mit d
 abei sind viele Sängerinnen und Sänger\, die unserem Publikum wohlbekann
 t sind und sehr geschätzt werden\, darunter Christophe Dumaux als Giustin
 o\, Olivia Vermeulen als Amanzio oder Kateryna Kasper als Arianna.\n\nProg
 ramm\nAntonio Vivaldi\nIl Giustino\nDramma per musica in tre atti RV 717\n
 \nChristophe Dumaux Giustino\nNN Anastasio\nKateryna Kasper Arianna\nRobin
  Johannsen Leocasta\nSiyabonga Maqungo Vitaliano\nKristina Hammarström An
 dronico\nOlivia Vermeulen Amanzio\nFrancesc Ortega Martí Polidarte\nFreib
 urger Barockorchester\nRené Jacobs Leitung
ATTACH;FMTTYPE=image/jpeg:https://www.arsmondo-online.de/wp-content/upload
 s/2025/06/FBO_Plakate_SZ_2526_Querformat_300425-9_Il-Giustino.jpg
CATEGORIES:Konzert
LOCATION:Konzerthaus Freiburg - Rolf-Böhme-Saal\, Konrad-Adenauer-Platz 1\
 , Freiburg\, Baden-Württemberg\, 79098 \, Südlicher Oberrhein\, Deutschl
 and
X-APPLE-STRUCTURED-LOCATION;VALUE=URI;X-ADDRESS=Konrad-Adenauer-Platz 1\, F
 reiburg\, Baden-Württemberg\, 79098 \, Südlicher Oberrhein\, Deutschland
 ;X-APPLE-RADIUS=100;X-TITLE=Konzerthaus Freiburg - Rolf-Böhme-Saal:geo:0,
 0
END:VEVENT
BEGIN:VTIMEZONE
TZID:Europe/Berlin
X-LIC-LOCATION:Europe/Berlin
BEGIN:DAYLIGHT
DTSTART:20260329T030000
TZOFFSETFROM:+0100
TZOFFSETTO:+0200
TZNAME:CEST
END:DAYLIGHT
END:VTIMEZONE
END:VCALENDAR