BEGIN:VCALENDAR
VERSION:2.0
PRODID:-//wp-events-plugin.com//7.2.3.1//EN
TZID:Europe/Berlin
X-WR-TIMEZONE:Europe/Berlin
BEGIN:VEVENT
UID:12160@arsmondo-online.de
DTSTART;TZID=Europe/Berlin:20260607T190000
DTEND;TZID=Europe/Berlin:20260607T210000
DTSTAMP:20250611T205143Z
URL:https://www.arsmondo-online.de/kulturtermine/freiburger-barockorcheste
 r-vivaldi-vokal-2/
SUMMARY:Freiburger Barockorchester: Vivaldi Vokal
DESCRIPTION:Im finalen Konzert der Saison 2025/26 gibt Alexander Chance sei
 n Solodebüt mit dem Freiburger Barockorchester. Vivaldis geistliche Andac
 ht trifft auf dramatische Leidenschaft\, ergänzt von feurigem italienisch
 em Streicherzauber.\n\nDer britische Countertenor Alexander Chance gehört
  zu den aufstrebenden Künstlern seiner Zunft und verzückt sein Publikum 
 mit seiner außergewöhnlichen Musikalität. Bereits mehrfach war er als M
 itglied des belgischen Vokalensembles Vox Luminis in Konzerten des Freibur
 ger Barockorchesters zu erleben und sorgte mit seiner glockenklaren Stimme
  und seiner blitzsauberen Intonation für Begeisterung. Nun gibt er in uns
 erer Abonnementreihe sein Debüt mit einem Soloprogramm.\n\nFür dieses Pr
 ogramm wählte er zwei Kantaten von Antonio Vivaldi\, die unterschiedliche
 r nicht sein könnten. In der ersten Konzerthälfte erklingt die geistlich
 e Kantate Nisi Dominus\, die Vivaldi mit einem besonders andächtigen Char
 akter vertonte. Im zweiten Teil wird es sehr temperamentvoll-italienisch m
 it der weltlichen Kantate Cessate\, omai cessate\, in der Vivaldi alle sei
 ne dramatischen Register zieht.\n\nNicht nur Alexander Chance wird in dies
 em Konzertprogramm brillieren\, sondern auch die Streicher des FBO. Mit In
 strumentalwerken von Arcangelo Corelli\, Pietro Locatelli und Lorenzo Gaet
 ano Zavatieri können vor allem die Violinen ihr Instrument zum Flirren br
 ingen. Molto italiano!\n\nProgramm\nAntonio Vivaldi\nNisi Dominus RV 608\n
 Cessate\, omai cessate RV 684\nConcerto madrigalesco RV 129\n\nArcangelo C
 orelli\nSinfonia Beatrice d’Este\nConcerto grosso B-Dur op. 6 Nr. 11\n\n
 Lorenzo Gaetano Zavateri\nViolinkonzert c-Moll\n\nAlexander Chance Counter
 tenor\nFreiburger Barockorchester\nGottfried von der Goltz Violine &amp\; 
 Leitung\n\nKarten &amp\; Infos: https://www.easyticket.de/veranstaltung/fr
 eiburger-barockorchester-vivaldi-vokal/101285\n\nIllustration: Simone Nili
 us\, Agentur Augenschmaus
ATTACH;FMTTYPE=image/jpeg:https://www.arsmondo-online.de/wp-content/upload
 s/2025/06/5-Freiburger-Barockorchester-Saison-2024.25_Vivaldi-Vokal.jpg
CATEGORIES:Konzert
LOCATION:Liederhalle Stuttgart\, Mozartsaal\, Berliner Platz 1-3\, Stuttgar
 t\, Baden-Württemberg\, 70174\, Stuttgart\, Deutschland
X-APPLE-STRUCTURED-LOCATION;VALUE=URI;X-ADDRESS=Berliner Platz 1-3\, Stuttg
 art\, Baden-Württemberg\, 70174\, Stuttgart\, Deutschland;X-APPLE-RADIUS=
 100;X-TITLE=Liederhalle Stuttgart\, Mozartsaal:geo:0,0
END:VEVENT
BEGIN:VTIMEZONE
TZID:Europe/Berlin
X-LIC-LOCATION:Europe/Berlin
BEGIN:DAYLIGHT
DTSTART:20260329T030000
TZOFFSETFROM:+0100
TZOFFSETTO:+0200
TZNAME:CEST
END:DAYLIGHT
END:VTIMEZONE
END:VCALENDAR