BEGIN:VCALENDAR
VERSION:2.0
PRODID:-//wp-events-plugin.com//7.2.3.1//EN
TZID:Europe/Berlin
X-WR-TIMEZONE:Europe/Berlin
BEGIN:VEVENT
UID:17679@arsmondo-online.de
DTSTART;TZID=Europe/Berlin:20261018T130000
DTEND;TZID=Europe/Berlin:20261018T150000
DTSTAMP:20260307T171430Z
URL:https://www.arsmondo-online.de/kulturtermine/fuehrung-mit-dem-restaura
 tor-jakob-wedemeyer-2/
SUMMARY:Führung mit dem Restaurator Jakob Wedemeyer
DESCRIPTION:Mit kunsthistorischer Einordnung Karl Hofers der Kurator/innen\
 n26. April 2026 | 13:00\n18. Oktober 2026 | 13:00\n5 € zzgl. Eintritt\n\
 n\nGemeinsam mit dem Dipl. Restaurator Jakob Wedemeyer lernen die Besuchen
 den die Maltechniken und Bildsprache des Malers Karl Hofer näher kennen. 
 Welche Materialien\, Farben und Arbeitsmittel benutze er? Wie konzipierte 
 er seine Bilder und gestaltete den malerischen Charakter seiner Gemälde? 
 Anhand von ausgewählten Werken werden außerdem die Techniken und das Han
 dwerk der Restaurierung erklärt.\n\nErgänzt wird der Ausstellungsrundgan
 g durch eine kunsthistorische Einordnung Karl Hofers von der Kuratorin Mar
 ie-Theres Pecher oder dem Kurator Michael C. Maurer.\n\n
CATEGORIES:Kunst
LOCATION:Schloss Achberg\, Achberg 2\, Achberg\, Baden-Württemberg\, 88147
 \, Bodensee-Oberschwaben\, Deutschland
X-APPLE-STRUCTURED-LOCATION;VALUE=URI;X-ADDRESS=Achberg 2\, Achberg\, Baden
 -Württemberg\, 88147\, Bodensee-Oberschwaben\, Deutschland;X-APPLE-RADIUS
 =100;X-TITLE=Schloss Achberg:geo:0,0
END:VEVENT
BEGIN:VTIMEZONE
TZID:Europe/Berlin
X-LIC-LOCATION:Europe/Berlin
BEGIN:DAYLIGHT
DTSTART:20260329T030000
TZOFFSETFROM:+0100
TZOFFSETTO:+0200
TZNAME:CEST
END:DAYLIGHT
END:VTIMEZONE
END:VCALENDAR