BEGIN:VCALENDAR
VERSION:2.0
PRODID:-//wp-events-plugin.com//7.2.3.1//EN
TZID:Europe/Berlin
X-WR-TIMEZONE:Europe/Berlin
BEGIN:VEVENT
UID:7102@arsmondo-online.de
DTSTART;TZID=Europe/Berlin:20250628T200000
DTEND;TZID=Europe/Berlin:20250628T200000
DTSTAMP:20240729T195025Z
URL:https://www.arsmondo-online.de/kulturtermine/gastkonzert-der-wuerttemb
 ergischen-philharmonie-in-villingen-schwenningen/
SUMMARY:Gastkonzert der Württembergischen Philharmonie in Villingen-Schwen
 ningen
DESCRIPTION:harles Koechlin\, En mer\, la nuit op.27 étude symphonique\, d
 ’après la Mer du Nord\nMaurice Ravel\, Daphnis und Chloé: Suite Nr.2\n
 Claude Debussy\, Trois Nocturnes\nMaurice Ravel\, La valse\n\nAkademischer
  Chor der Universität Tübingen\n\nAriane Matiakh\, Leitung
CATEGORIES:Konzert
LOCATION:Franziskaner\, Rietgasse 2\, Villingen-Schwenningen\, BW\, 78050\,
  Schwarzwald\, Deutschland
X-APPLE-STRUCTURED-LOCATION;VALUE=URI;X-ADDRESS=Rietgasse 2\, Villingen-Sch
 wenningen\, BW\, 78050\, Schwarzwald\, Deutschland;X-APPLE-RADIUS=100;X-TI
 TLE=Franziskaner:geo:0,0
END:VEVENT
BEGIN:VTIMEZONE
TZID:Europe/Berlin
X-LIC-LOCATION:Europe/Berlin
BEGIN:DAYLIGHT
DTSTART:20250330T030000
TZOFFSETFROM:+0100
TZOFFSETTO:+0200
TZNAME:CEST
END:DAYLIGHT
END:VTIMEZONE
END:VCALENDAR