BEGIN:VCALENDAR
VERSION:2.0
PRODID:-//wp-events-plugin.com//7.2.3.1//EN
TZID:Europe/Berlin
X-WR-TIMEZONE:Europe/Berlin
BEGIN:VEVENT
UID:17694@arsmondo-online.de
DTSTART;TZID=Europe/Berlin:20260607T180000
DTEND;TZID=Europe/Berlin:20260607T200000
DTSTAMP:20260307T170939Z
URL:https://www.arsmondo-online.de/kulturtermine/hanke-brothers-express-yo
 urself/
SUMMARY:Hanke Brothers - Express Yourself
DESCRIPTION:Virtuos\, innovativ\, grenzenlos – die Hanke Brothers eröffn
 en mit »Express Yourself« einen Klangraum\, in dem sich Klassik\, Jazz u
 nd Pop zu einem mitreißenden musikalischen Abenteuer verbinden. Die vier 
 Brüder\, bekannt für neugieriges Ausprobieren und unbändige Spielfreude
 \, laden ihr Publikum ein\, Musik neu zu entdecken: dynamisch\, überrasch
 end und voller Energie. Das Programm spannt einen weiten Bogen von den sch
 illernd-minimalistischen Klangwelten Oliver Davis’ über die pulsierende
 n Rhythmen von Jonathan Hanke bis hin zu Aleksey Igudesmans humorvollen We
 rken. Hinzu kommen weitere Kompositionen\, die den unverwechselbaren Stil 
 der New Classical Music prägen\, für den die Hanke Brothers gefeiert wer
 den. Seit ihrer Gründung 2017 begeistern sie mit Blockflöte\, Viola\, Kl
 avier und Tuba auf renommierten Bühnen und Festivals\, ausgezeichnet als 
 »JM artist« der Jeunesses Musicales Deutschland und mit dem Opus Klassik
  2024. Mit »Express Yourself« bringen sie ihre grenzenlose Kreativität 
 nach Maulbronn.\n\n&nbsp\;
CATEGORIES:Konzert
LOCATION:Laienrefektorium\, Klosterhof\, Maulbronn\, Baden-Württemberg\, 7
 5433\, Enzkreis\, Deutschland
X-APPLE-STRUCTURED-LOCATION;VALUE=URI;X-ADDRESS=Klosterhof\, Maulbronn\, Ba
 den-Württemberg\, 75433\, Enzkreis\, Deutschland;X-APPLE-RADIUS=100;X-TIT
 LE=Laienrefektorium:geo:0,0
END:VEVENT
BEGIN:VTIMEZONE
TZID:Europe/Berlin
X-LIC-LOCATION:Europe/Berlin
BEGIN:DAYLIGHT
DTSTART:20260329T030000
TZOFFSETFROM:+0100
TZOFFSETTO:+0200
TZNAME:CEST
END:DAYLIGHT
END:VTIMEZONE
END:VCALENDAR