BEGIN:VCALENDAR
VERSION:2.0
PRODID:-//wp-events-plugin.com//7.2.3.1//EN
TZID:Europe/Berlin
X-WR-TIMEZONE:Europe/Berlin
BEGIN:VEVENT
UID:17408@arsmondo-online.de
DTSTART;TZID=Europe/Berlin:20260607T000000
DTEND;TZID=Europe/Berlin:20260607T000000
DTSTAMP:20260219T151654Z
URL:https://www.arsmondo-online.de/kulturtermine/harmonie-und-leidenschaft
 /
SUMMARY:Harmonie und Leidenschaft
DESCRIPTION:Werke von Joaquín Rodrigo\, Ausschnitte aus Bühnenwerken von 
 Wolfgang Amadeus Mozart bis Richard Wagner. Würth Philharmoniker\, Veroni
 ka Eberle\, Violine\; Sir Bryn Terfel\, Bassbariton\; Martin Panteleev\, D
 irigent.\n\n07. Juni 2026\, 17:00 Uhr Carmen Würth Forum\, Künzelsau\n\n
 Karten und weitere Info: kunstkultur.wuerth.com
CATEGORIES:Konzert
END:VEVENT
BEGIN:VTIMEZONE
TZID:Europe/Berlin
X-LIC-LOCATION:Europe/Berlin
BEGIN:DAYLIGHT
DTSTART:20260329T030000
TZOFFSETFROM:+0100
TZOFFSETTO:+0200
TZNAME:CEST
END:DAYLIGHT
END:VTIMEZONE
END:VCALENDAR