BEGIN:VCALENDAR
VERSION:2.0
PRODID:-//wp-events-plugin.com//7.2.3.1//EN
TZID:Europe/Berlin
X-WR-TIMEZONE:Europe/Berlin
BEGIN:VEVENT
UID:17721@arsmondo-online.de
DTSTART;TZID=Europe/Berlin:20260501T223000
DTEND;TZID=Europe/Berlin:20260502T010000
DTSTAMP:20260307T170622Z
URL:https://www.arsmondo-online.de/kulturtermine/heidelberg-goes-canada/
SUMMARY:Heidelberg goes Canada
DESCRIPTION:\nAuftakt zum Gastlandwochenende\n\n\nHeidelberger Stückemarkt
 \n\n\nAlter Saal\n\n\n\n\nMusikalisches\, Kulinarisches und Unterhaltsames
  aus unserem diesjährigen Gastland\n\n\n\n\n
CATEGORIES:Crossover
LOCATION:Theater und Orchester Heidelberg\, Theaterstraße 10\, Heidelberg\
 , Baden-Württemberg\, 69117\, Rhein-Neckar\, Deutschland
X-APPLE-STRUCTURED-LOCATION;VALUE=URI;X-ADDRESS=Theaterstraße 10\, Heidelb
 erg\, Baden-Württemberg\, 69117\, Rhein-Neckar\, Deutschland;X-APPLE-RADI
 US=100;X-TITLE=Theater und Orchester Heidelberg:geo:0,0
END:VEVENT
BEGIN:VTIMEZONE
TZID:Europe/Berlin
X-LIC-LOCATION:Europe/Berlin
BEGIN:DAYLIGHT
DTSTART:20260329T030000
TZOFFSETFROM:+0100
TZOFFSETTO:+0200
TZNAME:CEST
END:DAYLIGHT
END:VTIMEZONE
END:VCALENDAR