BEGIN:VCALENDAR
VERSION:2.0
PRODID:-//wp-events-plugin.com//7.2.3.1//EN
TZID:Europe/Berlin
X-WR-TIMEZONE:Europe/Berlin
BEGIN:VEVENT
UID:17696@arsmondo-online.de
DTSTART;TZID=Europe/Berlin:20260619T200000
DTEND;TZID=Europe/Berlin:20260619T213000
DTSTAMP:20260307T170958Z
URL:https://www.arsmondo-online.de/kulturtermine/helsinki-baroque-orchestr
 a-johann-sebastian-bach/
SUMMARY:Helsinki Baroque Orchestra - Johann Sebastian Bach
DESCRIPTION:Ein Abend ganz im Zeichen Johann Sebastian Bachs. Das Helsinki 
 Baroque Orchestra\, eines der profiliertesten Originalklangensembles Europ
 as\, ist zu Gast bei den Klosterkonzerten – geleitet von seinem künstle
 rischen Leiter Aapo Häkkinen\, der zugleich als Solist am Cembalo zu erle
 ben ist. Im Zentrum des Programms stehen drei Meisterwerke konzertanter Vi
 rtuosität und kompositorischer Raffinesse: das strahlende 5. Brandenburgi
 sche Konzert D-Dur BWV 1050 mit seiner bahnbrechenden Cembalokadenz\, das 
 dramatisch verdichtete Konzert c-Moll BWV 1060 sowie das berühmte Doppelk
 onzert d-Moll BWV 1043\, dessen inniger langsamer Satz zu den berührendst
 en Momenten der Bach’schen Musik zählt. Ergänzt wird das Programm durc
 h Solowerke für Cembalo\, die Aapo Häkkinen mit stilistischer Souveräni
 tät und improvisatorischem Gespür interpretiert. Historisch informiert\,
  lebendig und zugleich von großer Klarheit geprägt\, entfaltet sich Bach
 s zeitlose Musik im einzigartigen Raum der Maulbronner Klosterkirche zu ei
 nem intensiven Hörerlebnis – und erinnert an die Anfänge der Klosterko
 nzerte als Bachwoche.\n\nBild: Hall Fukui
ATTACH;FMTTYPE=image/jpeg:https://www.arsmondo-online.de/wp-content/upload
 s/2026/03/Helsinki-Baroque-Orchestra_c_Harmony-Hall-Fukui-Kopie.jpg
CATEGORIES:Konzert
LOCATION:Klosterkirche\, Klosterhof\, Maulbronn\, Baden-Württemberg\, 7543
 3\, Enzkreis\, Deutschland
X-APPLE-STRUCTURED-LOCATION;VALUE=URI;X-ADDRESS=Klosterhof\, Maulbronn\, Ba
 den-Württemberg\, 75433\, Enzkreis\, Deutschland;X-APPLE-RADIUS=100;X-TIT
 LE=Klosterkirche:geo:0,0
END:VEVENT
BEGIN:VTIMEZONE
TZID:Europe/Berlin
X-LIC-LOCATION:Europe/Berlin
BEGIN:DAYLIGHT
DTSTART:20260329T030000
TZOFFSETFROM:+0100
TZOFFSETTO:+0200
TZNAME:CEST
END:DAYLIGHT
END:VTIMEZONE
END:VCALENDAR