BEGIN:VCALENDAR
VERSION:2.0
PRODID:-//wp-events-plugin.com//7.2.3.1//EN
TZID:Europe/Berlin
X-WR-TIMEZONE:Europe/Berlin
BEGIN:VEVENT
UID:17702@arsmondo-online.de
DTSTART;TZID=Europe/Berlin:20260705T190000
DTEND;TZID=Europe/Berlin:20260705T210000
DTSTAMP:20260307T171130Z
URL:https://www.arsmondo-online.de/kulturtermine/hepta-polka-folksound-eur
 opa/
SUMMARY:Hepta Polka - Folksound Europa
DESCRIPTION:Hepta Polka\, das sind sechs Musiker\, die seit 2017 durch ihre
  unbändige Begeisterung für die Musik verbunden sind. Mit ihrem atembera
 ubenden Instrumentarium aus Sopransaxophon\, Hardanger-Fidel und 15 weiter
 en Instrumenten möchten sie die Menschen berühren und zusammenbringen. U
 nd tatsächlich werden die Konzerte der Band schnell zu wilden Partys mit 
 Folkmusik aus verschiedenen Regionen Europas – von Klezmer\, Balkan und 
 osteuropäischen Sounds über Skandinavien und Frankreich bis hin zu kelti
 schen und norddeutschen Roots. Herzergreifende Melodien treffen auf mitrei
 ßende Rhythmen\, kluge Arrangements verbinden sich mit unverschämter Vir
 tuosität und purer Experimentierfreude. Ein Abend voller Lebensfreude!\nB
 enannt hat sich das Ensemble mit Standort in Hamburg nach der griechischen
  Zahl Sieben. Sie steht für die wilden 7/8-Rhythmen\, die quer durch die 
 europäische Musik zu finden sind und Inspirationsquellen der Band sind. D
 ie »Polka« im Namen verweist auf die populären Musikstile unseres Konti
 nents\, die in einem wilden Ritt kreuz und quer\, von Norwegen bis Moldawi
 en\, ihre Tanzschritte setzen.\n\nBild: Johann Jasper Graetsch
ATTACH;FMTTYPE=image/jpeg:https://www.arsmondo-online.de/wp-content/upload
 s/2026/03/Hepta-Polka_c_Johann-Jasper-Graetsch-2_komprimiert.jpg
CATEGORIES:Konzert
LOCATION:Kloster Maulbronn Kreuzganggarten\, Klosterhof 5\, Maulbronn\, Bad
 en-Württemberg\, 75433\, Enzkreis\, Deutschland
X-APPLE-STRUCTURED-LOCATION;VALUE=URI;X-ADDRESS=Klosterhof 5\, Maulbronn\, 
 Baden-Württemberg\, 75433\, Enzkreis\, Deutschland;X-APPLE-RADIUS=100;X-T
 ITLE=Kloster Maulbronn Kreuzganggarten:geo:0,0
END:VEVENT
BEGIN:VTIMEZONE
TZID:Europe/Berlin
X-LIC-LOCATION:Europe/Berlin
BEGIN:DAYLIGHT
DTSTART:20260329T030000
TZOFFSETFROM:+0100
TZOFFSETTO:+0200
TZNAME:CEST
END:DAYLIGHT
END:VTIMEZONE
END:VCALENDAR