BEGIN:VCALENDAR
VERSION:2.0
PRODID:-//wp-events-plugin.com//7.2.3.1//EN
TZID:Europe/Berlin
X-WR-TIMEZONE:Europe/Berlin
BEGIN:VEVENT
UID:18212@arsmondo-online.de
DTSTART;TZID=Europe/Berlin:20260511T000000
DTEND;TZID=Europe/Berlin:20260511T000000
DTSTAMP:20260414T140157Z
URL:https://www.arsmondo-online.de/kulturtermine/jiggled-juggler/
SUMMARY:„Jiggled Juggler“
DESCRIPTION:Das Obradovic-Tixier Duo zu Gast in Allensbach beim Bodenseefes
 tival 2026. Das preisgekrönte kroatisch-französische Duo fesselt mit ein
 em zeitgenössischen Klang\, der aus der Verbindung von akustischen und el
 ektronischen Instrumenten entsteht und gleichzeitig von Emotionen und Eleg
 anz geleitet ist. Eine sanfte und zugleich markante Musik\, bei der die pr
 ägnante Schlagkraft und der mitreißende Groove von Lada Obradovic mit de
 n raffinierten Harmonien des virtuosen Pianisten David Tixier verschmelzen
 . Eine Spannung und Bewegung\, die in Atem hält und für die es bereits z
 ehn namhafte Auszeichnungen gab.\nKarten und Info: bodenseefestival.de\n\n
 Montag\, 11. Mai 2026\n20:00 Uhr\nAllensbach\, Evangelische Gnadenkirche (
 barrierefrei)\n\nLada Obradovic Schlagzeug\, Perkussion\, Elektronik\nDavi
 d Tixier Klavier\, Elektronik\n\nFoto © Vincent Bartoli
ATTACH;FMTTYPE=image/jpeg:https://www.arsmondo-online.de/wp-content/upload
 s/2026/04/260511_Allensbach_Obradovic-Tixier-Duo_©_Vincent-Bartoli_72dpi.
 jpg
CATEGORIES:Crossover,Konzert
LOCATION:Evangelische Gnadenkirche\, Auf dem Höhrenberg \, Allensbach am B
 odensee\, 78476\, Deutschland
X-APPLE-STRUCTURED-LOCATION;VALUE=URI;X-ADDRESS=Auf dem Höhrenberg \, Alle
 nsbach am Bodensee\, 78476\, Deutschland;X-APPLE-RADIUS=100;X-TITLE=Evange
 lische Gnadenkirche:geo:0,0
END:VEVENT
BEGIN:VTIMEZONE
TZID:Europe/Berlin
X-LIC-LOCATION:Europe/Berlin
BEGIN:DAYLIGHT
DTSTART:20260329T030000
TZOFFSETFROM:+0100
TZOFFSETTO:+0200
TZNAME:CEST
END:DAYLIGHT
END:VTIMEZONE
END:VCALENDAR