BEGIN:VCALENDAR
VERSION:2.0
PRODID:-//wp-events-plugin.com//7.2.3.1//EN
TZID:Europe/Berlin
X-WR-TIMEZONE:Europe/Berlin
BEGIN:VEVENT
UID:18108@arsmondo-online.de
DTSTART;TZID=Europe/Berlin:20260508T150000
DTEND;TZID=Europe/Berlin:20260508T163000
DTSTAMP:20260409T154319Z
URL:https://www.arsmondo-online.de/kulturtermine/kaffee-kuchen-meerschwein
 chen/
SUMMARY:Kaffee\, Kuchen\, Meerschweinchen
DESCRIPTION:Am 8. Mai laden Anna Ziegler\, Gerontologin\, und Birgit Großh
 ans\, Gedächtnistrainerin\, ins ZKM ein.\n\nEntdecken Sie zehn interaktiv
 e Robotermeerschweinchen\, die auf Berührung und Ansprache reagieren – 
 flauschig\, neugierig und ein bisschen künstlich. Sie sind herzlich einge
 laden\, diese ungewöhnlichen kleinen Wesen zu erforschen und anschließen
 d gemeinsam bei Kaffee und Kuchen zusammenkommen.\n\nDie Veranstaltung dau
 ert 1\,5 Stunden. Die Teilnahme ist für Sie kostenlos.\n\nAnmeldung beim 
 Seniorenbüro unter Telefon 0721 133-5022 oder seniorenbuero@sjb.karlsruhe
 .de\n\nBildcredit: ZKM | Zentrum für Kunst und Medien\, Foto: Andy Koch
ATTACH;FMTTYPE=image/jpeg:https://www.arsmondo-online.de/wp-content/upload
 s/2026/04/E6E9951A-0609-4D87-B3D1-D5B8B70D-3.png
CATEGORIES:Crossover
LOCATION:ZKM | Zentrum für Kunst und Medien\, Lorenzstraße 19\, Karlsruhe
 \, Baden-Württemberg\, 76135\, Mittlerer Oberrhein\, Deutschland
X-APPLE-STRUCTURED-LOCATION;VALUE=URI;X-ADDRESS=Lorenzstraße 19\, Karlsruh
 e\, Baden-Württemberg\, 76135\, Mittlerer Oberrhein\, Deutschland;X-APPLE
 -RADIUS=100;X-TITLE=ZKM | Zentrum für Kunst und Medien:geo:0,0
END:VEVENT
BEGIN:VTIMEZONE
TZID:Europe/Berlin
X-LIC-LOCATION:Europe/Berlin
BEGIN:DAYLIGHT
DTSTART:20260329T030000
TZOFFSETFROM:+0100
TZOFFSETTO:+0200
TZNAME:CEST
END:DAYLIGHT
END:VTIMEZONE
END:VCALENDAR