BEGIN:VCALENDAR
VERSION:2.0
PRODID:-//wp-events-plugin.com//7.2.3.1//EN
TZID:Europe/Berlin
X-WR-TIMEZONE:Europe/Berlin
BEGIN:VEVENT
UID:17822@arsmondo-online.de
DTSTART;TZID=Europe/Berlin;VALUE=DATE:20261018
DTEND;TZID=Europe/Berlin;VALUE=DATE:20261019
DTSTAMP:20260307T165923Z
URL:https://www.arsmondo-online.de/kulturtermine/karl-hofer-zwischen-schoe
 nheit-und-wahrheit-2026-04-12-2026-04-19-2026-04-26-2026-05-03-2026-05-10-
 2026-05-17-2026-05-24-2026-05-31-2026-06-07-2026-06-14-2026-06-21-2026-06-
 28-2026-07-05-11-2026-10-18/
SUMMARY:Karl Hofer. Zwischen Schönheit und Wahrheit
DESCRIPTION:Ausstellung vom 11.04.2026 bis zum 18.10.2026. \n\nKarl Hofer 
 (Karlsruhe 1878 – 1955 Berlin) zählt zu den eigenständigsten\, bedeute
 ndsten Malern der deutschen Moderne. Im Zentrum seines Schaffens steht der
  Mensch. Seine Figuren sind Träger existenzieller Empfindungen – in sti
 llem\, oft melancholischem Ausdruck. Er zeigt den Mensch in seiner ganzen 
 Vielschichtigkeit:\nIm Motiv der Mädchen mit Blumen\, Maskeraden und Zirk
 usdarstellungen sowie den Fest- und Tischgesellschaften. Höchst subtil ve
 rarbeitet er in seinen Bildern auch die Schrecken der beiden Weltkriege. B
 ildnisse von anmutiger Schönheit treten somit teils visionären Mahn- und
  Warnbildern gegenüber.\n\nMit klarer Haltung widersetzt Hofer sich dem N
 ationalsozialismus und schafft zeitlose Bilder\, die bis heute aktuelle Fr
 agen nach Humanität und Existenz aufwerfen. „Zwischen Schönheit und Wa
 hrheit“ macht seine künstlerische Spannweite sichtbar und bringt sein S
 chaffen auf den Punkt: Schönheit als Ideal\, hinter dem sich eine oft sch
 wer erträgliche Wahrheit verbirgt.\n\nKarl Hofer ist einer der großen Ei
 nzelgänger des 20. Jahrhunderts\, wohl auch deshalb\, weil seine Malerei 
 schwer zu fassen ist und sich einer Zuordnung widersetzt. Während sein Fr
 ühwerk noch stark von akademischen Vorbildern und Studien der Antike gepr
 ägt ist\, entwickelt er mit den Jahren einen eigenständigen Stil. Seine 
 unverwechselbare Bildsprache ist geprägt von klar konturierten\, kantigen
  Umrisslinien\, breitflächiger Komposition\, trockener Farbigkeit und ein
 er Verdichtung des Bildgeschehens. Seine Landschaften und Stillleben diene
 n ihm als Experimentierfelder für Form und Farbe.\n\nKunstgeschichte schr
 eibt Hofer auch nach Ende des Zweiten Weltkriegs als Direktor der wiederer
 öffneten Hochschule für bildende Künste in Berlin-Charlottenburg und al
 s Erster Vorsitzender des Deutschen Künstlerbundes. In diesen Positionen\
 , die er bis kurz vor seinem Tod innehat\, prägt er maßgeblich die Debat
 te um Figuration und Abstraktion in der deutschen Nachkriegsmoderne. Er ve
 rteidigt dabei die figürliche Darstellung gegenüber der wachsenden Domin
 anz des Abstrakten.\n\nDie Ausstellung in Schloss Achberg zeigt wichtige T
 hemen\, die ästhetische Kraft und das Menschenbild in Hofers Malerei anha
 nd von über 60 Gemälden aus allen Schaffensphasen. Ergänzt wird die Aus
 stellung um Gemälde von Künstlern der Halleschen Schule\, die thematisch
 e\, stilistische und atmosphärische Anklänge an Hofers figurative Malere
 i aufweisen\, sowie Gemälde von Willi Baumeister\, die den Dialog zwische
 n Figuration und Abstraktion verdeutlichen. Sie werfen ein Schlaglicht auf
  die Rezeption Hofers zwischen 1945 und 1955 in Ost und West.\n\nFreuen Si
 e sich auf ein vielfältiges Begleitprogramm mit Sonderführungen\, Fami
 lienprogramm\, Konzerten\, Mitmachangeboten und vielen mehr im Jahr 2026.
ATTACH;FMTTYPE=image/jpeg:https://www.arsmondo-online.de/wp-content/upload
 s/2026/03/zeitraum2.jpg
CATEGORIES:Kunst
LOCATION:Schloss Achberg\, Achberg 2\, Achberg\, Baden-Württemberg\, 88147
 \, Bodensee-Oberschwaben\, Deutschland
X-APPLE-STRUCTURED-LOCATION;VALUE=URI;X-ADDRESS=Achberg 2\, Achberg\, Baden
 -Württemberg\, 88147\, Bodensee-Oberschwaben\, Deutschland;X-APPLE-RADIUS
 =100;X-TITLE=Schloss Achberg:geo:0,0
END:VEVENT
BEGIN:VTIMEZONE
TZID:Europe/Berlin
X-LIC-LOCATION:Europe/Berlin
BEGIN:DAYLIGHT
DTSTART:20260329T030000
TZOFFSETFROM:+0100
TZOFFSETTO:+0200
TZNAME:CEST
END:DAYLIGHT
END:VTIMEZONE
END:VCALENDAR