BEGIN:VCALENDAR
VERSION:2.0
PRODID:-//wp-events-plugin.com//7.2.3.1//EN
TZID:Europe/Berlin
X-WR-TIMEZONE:Europe/Berlin
BEGIN:VEVENT
UID:17090@arsmondo-online.de
DTSTART;TZID=Europe/Berlin:20260303T200000
DTEND;TZID=Europe/Berlin:20260303T220000
DTSTAMP:20260127T210042Z
URL:https://www.arsmondo-online.de/kulturtermine/klassik-trifft-kurve/
SUMMARY:Klassik trifft Kurve
DESCRIPTION:\n\nInterpreten\nMichael Bollenbacher . Moderation\nHolger L
 aser . Stadionsprecher\nPhilipp Volksmund (Die Fraktion) . Gesang\nComm
 ando Cannstatt 1997\n\nSusanne von Gutzeit . Leitung\nStuttgarter Kammer
 orchester\n\nund weitere Überraschungsgäste\n\n\n\nProgramm\nKlassik\, F
 angesänge und Stadionhits\n\n&nbsp\;\n\n\n\n\nSeit über 80 Jahren begeis
 tert das Stuttgarter Kammerorchester mit musikalischer Exzellenz – von B
 ach über Mozart bis hin zu Iron Maiden. Regelmäßig strömen 60.000 Fans
  zu den Heimspielen\, um den VfB Stuttgart mit Leidenschaft und Herzblut z
 u unterstützen. Nun vereinen sich diese zwei Größen und Aushängeschild
 er der Landeshauptstadt Stuttgart zu einem einzigartigen Abend voller Emot
 ionen\, Musik und Gemeinschaft.\n\nMitgestaltet durch Mitglieder des Comma
 ndo Cannstatt 1997\, verwandelt sich am 3. März der Hegel-Saal der Lieder
 halle Stuttgart in einen Ort\, an dem Stadionatmosphäre und klassische Mu
 sik zu einer neuen Einheit verschmelzen – und einen Konzertabend der gan
 z besonderen Art entstehen lassen.\nIn kompakter Form – zwei Halbzeiten 
 à 45 Minuten plus eine besondere „Nachspielzeit“ – feiern VfB- und 
 SKO-Fans ihren Verein und sich selbst. Bekannte Stadionmelodien und Fanges
 änge erklingen kunstvoll arrangiert vom Stuttgarter Kammerorchester\, erg
 änzt durch Hits aus Klassik und Rock. Emotionale Rituale im neuen Klangge
 wand: kunstvoll\, aber ungekünstelt. Die Fans im Publikum sind aktiv eing
 ebunden – sie singen mit und füllen den Saal mit ihrer Energie.\n\nDoch
  dieses Konzert ist noch weit mehr: Es ist ein Zeichen für Zusammenhalt u
 nd Verantwortung. Sämtliche Erlöse aus Partnerschaften\, Spenden und beg
 leitenden Aktionen kommen der VfB-Stiftung "Brustring der Herzen" zugute 
 – und damit Projekten\, die Menschen aus Stuttgart und der Region in sch
 wierigen Lebenslagen unterstützen: ein aktives Engagement gegen Armut\, E
 insamkeit und für mentale Gesundheit.\nPackt die VfB-Schals ein und seid 
 dabei – wenn Klassik auf Kurve trifft\, und lasst Euch von Stadionatmosp
 häre und klassischer Musik mitreißen.\n\n\n\n\nIn Kooperation mit dem Vf
 B Stuttgart\n\n\n
CATEGORIES:Crossover,Konzert
LOCATION:Liederhalle\, Berliner Platz 1\, Stuttgart\, 70174\, Deutschland
X-APPLE-STRUCTURED-LOCATION;VALUE=URI;X-ADDRESS=Berliner Platz 1\, Stuttgar
 t\, 70174\, Deutschland;X-APPLE-RADIUS=100;X-TITLE=Liederhalle:geo:0,0
END:VEVENT
BEGIN:VTIMEZONE
TZID:Europe/Berlin
X-LIC-LOCATION:Europe/Berlin
BEGIN:STANDARD
DTSTART:20251026T020000
TZOFFSETFROM:+0200
TZOFFSETTO:+0100
TZNAME:CET
END:STANDARD
END:VTIMEZONE
END:VCALENDAR