BEGIN:VCALENDAR
VERSION:2.0
PRODID:-//wp-events-plugin.com//7.2.3.1//EN
TZID:Europe/Berlin
X-WR-TIMEZONE:Europe/Berlin
BEGIN:VEVENT
UID:18107@arsmondo-online.de
DTSTART;TZID=Europe/Berlin:20260507T170000
DTEND;TZID=Europe/Berlin:20260507T200000
DTSTAMP:20260409T154310Z
URL:https://www.arsmondo-online.de/kulturtermine/kleider-und-buecherbasar/
SUMMARY:Kleider-und Bücherbasar
DESCRIPTION:Stöbern\, Schmökern\, Gutes tun: Der alljährliche Afterwork 
 Kleider- und Bücherbasar findet wieder auf der grünen Insel vor dem ZKM 
 statt. Das ZKM-Team hat Schränke und Regale gründlich durchforstet und b
 ringt Kleider\, Taschen\, Schmuck und mehr mit – liebevoll ausgewählt u
 nd bereit für ein zweites Leben. Auch unsere Bibliothek steuert wie immer
  eine Auswahl besonderer Bücher bei.\nDazu gibt es gute Musik\, kühle Ge
 tränke und jede Menge Gelegenheit zum Austausch. Wer also auf der Suche n
 ach einem neuen Lieblingsteil ist und dabei dem Onlinehandel eine Absage e
 rteilen möchte\, ist bei unserem Kleiderbasar unter freiem Himmel genau r
 ichtig!\n\nDie Einnahmen werden für einen guten Zweck gespendet.\n\nBildc
 redit: ZKM | Zentrum für Kunst und Medien Karlsruhe
ATTACH;FMTTYPE=image/jpeg:https://www.arsmondo-online.de/wp-content/upload
 s/2026/04/IMG_4339-5.png
CATEGORIES:Crossover
LOCATION:ZKM | Zentrum für Kunst und Medien\, Lorenzstraße 19\, Karlsruhe
 \, Baden-Württemberg\, 76135\, Mittlerer Oberrhein\, Deutschland
X-APPLE-STRUCTURED-LOCATION;VALUE=URI;X-ADDRESS=Lorenzstraße 19\, Karlsruh
 e\, Baden-Württemberg\, 76135\, Mittlerer Oberrhein\, Deutschland;X-APPLE
 -RADIUS=100;X-TITLE=ZKM | Zentrum für Kunst und Medien:geo:0,0
END:VEVENT
BEGIN:VTIMEZONE
TZID:Europe/Berlin
X-LIC-LOCATION:Europe/Berlin
BEGIN:DAYLIGHT
DTSTART:20260329T030000
TZOFFSETFROM:+0100
TZOFFSETTO:+0200
TZNAME:CEST
END:DAYLIGHT
END:VTIMEZONE
END:VCALENDAR