BEGIN:VCALENDAR
VERSION:2.0
PRODID:-//wp-events-plugin.com//7.2.3.1//EN
TZID:Europe/Berlin
X-WR-TIMEZONE:Europe/Berlin
BEGIN:VEVENT
UID:12597@arsmondo-online.de
DTSTART;TZID=Europe/Berlin:20251129T200000
DTEND;TZID=Europe/Berlin:20251129T200000
DTSTAMP:20250702T172654Z
URL:https://www.arsmondo-online.de/kulturtermine/konzert-des-swr-symphonie
 orchesters-45/
SUMMARY:Konzert des SWR Symphonieorchesters
DESCRIPTION:Orchesterkonzert mit dem SWR Symphonieorchester unter der Leitu
 ng von François-Xavier Roth. Gemeinsam musizieren sie Werke von Lachenman
 n und Beethoven\n\n&nbsp\;\n\nProgramm:\n\nHelmut Lachenmann: "Ausklang"\,
  Musik für Klavier mit Orchester\nLudwig van Beethoven: Sinfonie Nr. 7 A-
 Dur op. 92\n\n&nbsp\;\n\nMitwirkende:\n\nJean-François Heisser\, Klavier\
 nSWR Symphonieorchester\nFrançois-Xavier Roth\, Dirigent\n\n&nbsp\;\n\n19
 :00 Uhr Konzerteinführung\n\nFoto: Francois Xavier Roth\,  © Wolf-Peter
 -Steinheisser
ATTACH;FMTTYPE=image/jpeg:https://www.arsmondo-online.de/wp-content/upload
 s/2025/07/25-11-29-Francois-Xavier-Roth-C-Wolf-Peter-Steinheisser_klein.jp
 g
CATEGORIES:Konzert
LOCATION:Konzerthaus Freiburg\,  Konrad-Adenauer-Platz 1\, Freiburg\, Baden
 -Württemberg\, 79098 \, Südlicher Oberrhein\, Deutschland
X-APPLE-STRUCTURED-LOCATION;VALUE=URI;X-ADDRESS= Konrad-Adenauer-Platz 1\, 
 Freiburg\, Baden-Württemberg\, 79098 \, Südlicher Oberrhein\, Deutschlan
 d;X-APPLE-RADIUS=100;X-TITLE=Konzerthaus Freiburg:geo:0,0
END:VEVENT
BEGIN:VTIMEZONE
TZID:Europe/Berlin
X-LIC-LOCATION:Europe/Berlin
BEGIN:STANDARD
DTSTART:20251026T020000
TZOFFSETFROM:+0200
TZOFFSETTO:+0100
TZNAME:CET
END:STANDARD
END:VTIMEZONE
END:VCALENDAR